BEGIN:VCALENDAR
VERSION:2.0
PRODID:-//wp-events-plugin.com//7.2.3.1//EN
TZID:Australia/Sydney
X-WR-TIMEZONE:Australia/Sydney
BEGIN:VEVENT
UID:3337@unswoc.org
DTSTART;TZID=Australia/Sydney;VALUE=DATE:20231014
DTEND;TZID=Australia/Sydney;VALUE=DATE:20231015
DTSTAMP:20231009T142414Z
URL:https://unswoc.org/wordpress/events/saturday-bl-beginner-canyon-macqua
 rie-pass/
SUMMARY:[FULL] Saturday BL - Beginner canyon - Macquarie Pass
DESCRIPTION:Hello!\n\nJuri and I (Georgie) will be running a trip down Macq
 uarie Pass Canyon on the Saturday of Boree Log. Amelia will be our TLIT.\n
 \nMacquarie Pass is a warm(ish) wide open\, pretty canyon with some mega a
 bseils! You can find out more about it here.\n\nYou will need to be comfor
 table with heights and abseiling\, able to swim in cold water\, scramble o
 ver slippery and wet rocks\, and manage a steep walk in and out.\n\nWhat t
 o bring:\n\n 	Harness *\n 	Helmet *\n 	Figure 8 Device/descender of choice
  (no ATC or Pitton) *\n 	2 locking biners *\n 	Safety (120 sling is accept
 able)*\n 	Wetsuit *\n 	Drybag (must be large enough to fit everything in t
 hat you will want to keep dry)*\n 	Thermal top and bottoms\, jumper &amp\;
  beanie (e.g. enough clothing to keep warm in a canyon overnight in an eme
 rgency)\n 	Thick socks\n 	Raincoat that is ok to get wet\n 	Emergency blan
 ket (1 blanket for each person\; can be purchased from most pharmacies for
  $10)\n 	Sunscreen\n 	First aid kit (if you have one)\n 	Lunch (pack it in
  a waterproof container\, and make sure it’s vaguely crush-proof)\n 	Sna
 cks (ideally things that can be consumed on the go)\n 	2L of water minimum
 \n 	Dry &amp\; sun-safe clothes (to hike out of the canyon in)\n 	Backpack
  &gt\; 25L (will get wet)\n 	Enclosed shoes for the walking and in the can
 yon\n 	Headtorch + spare batteries\n 	Medications/epipens if you need them
 !\n 	Boardshorts to wear on top of wetsuit (compulsory to protect the club
  wetsuits)\n 	Optional: swimmers to put under your wetsuit prussik (if you
  already know how to use it)\n 	DO NOT BRING COTTON CLOTHING.\n\n* Club ge
 ar will be provided at Boree Log.\n\nPlease let us know\n\n 	Whether you h
 ave a car and how many spots you have\n 	Your previous canyoning experienc
 e\n 	Provide one recommendation (book\, music\, restaurant etc.). By answe
 ring the “hidden question” it shows us you’ve read the entire descri
 ption\n 	Confirm that you can swim (e.g. 50m in a pool)\n\nIf you have any
  questions\, message Georgie Clare or Juri Hemmi on Facebook.\n\n&nbsp\;\n
 \nREMINDER: IF YOU ARE AN AUSTRALIAN CITIZEN YOU NEED TO HAVE VOTED IN THE
  REFERENDUM BEFORE THIS TRIP. IF YOU HAVE NOT VOTED\, YOU WILL NOT BE ABLE
  TO COME ON THIS TRIP
CATEGORIES:Abseiling,Boree Log,Canyoning
LOCATION:https://www.google.com/maps/place/Bendeela+Recreation+Area/@-34.73
 98829,150.4715364,701m/data=!3m2!1e3!4b1!4m6!3m5!1s0x6b1384112dd45a27:0x18
 64061442c50fdd!8m2!3d-34.7398829!4d150.4715364!16s%2Fg%2F11bwp1v1ph?entry=
 ttu
END:VEVENT
BEGIN:VTIMEZONE
TZID:Australia/Sydney
X-LIC-LOCATION:Australia/Sydney
BEGIN:DAYLIGHT
DTSTART:20231001T030000
TZOFFSETFROM:+1000
TZOFFSETTO:+1100
TZNAME:AEDT
END:DAYLIGHT
END:VTIMEZONE
END:VCALENDAR