BEGIN:VCALENDAR
VERSION:2.0
PRODID:-//wp-events-plugin.com//7.2.3.1//EN
TZID:Australia/Sydney
X-WR-TIMEZONE:Australia/Sydney
BEGIN:VEVENT
UID:3010@unswoc.org
DTSTART;TZID=Australia/Sydney;VALUE=DATE:20220514
DTEND;TZID=Australia/Sydney;VALUE=DATE:20220516
DTSTAMP:20220514T000154Z
URL:https://unswoc.org/wordpress/events/saturday-bl-beginner-bouldering-co
 xs-river/
SUMMARY:SATURDAY BL - Beginner Bouldering Cox's River
DESCRIPTION:Hi there!\n\nSammy and I will be leading a beginner bouldering 
 trip to Colo River.  You must be approved for Boree Log to attend.\n\nHer
 e's some information on the crag:\n\nhttps://www.thecrag.com/climbing/aust
 ralia/blue-mountains/coxs-river-bouldering\n\nhttps://www.thecrag.com/clim
 bing/australia/blue-mountains/coxs-river-bouldering/area/2700435708\n\nWe'
 ll be going directly from camp on Saturday morning\, so all the gear will 
 be provided. It doesn't matter if you've never bouldered outdoors before\,
  we're here to show you the (lack of) ropes! You will need:\n\n 	Climbing 
 gear: Climbing shoes\, maybe a chalk bag.\n 	For clothing: Sport clothes.
  It can get quite hot or quite chilly\, so be prepared for both.\n 	For ea
 ting: 2 l of water\, food or snacks.\n 	Other gear: swimmers\, sunscreen
 \, medicines if you need them (asthma puffer\, etc).\n\nNumber of attendee
 s will depend on the number of cars available. Please mention if you have 
 a car when you sign up.\n\n&nbsp\;\n\nYou need to be approved for the main
  Boree Log event to attend these trips. Please sign up for only ONE trip 
 per day. If you get rejected you can then sign up for another trip\, this 
 just makes it easier for volunteer trip leaders.\n\nPlease be aware that a
 s the weather is unpredictable\, trip leaders may need to alter trips acco
 rdingly
END:VEVENT
BEGIN:VTIMEZONE
TZID:Australia/Sydney
X-LIC-LOCATION:Australia/Sydney
BEGIN:STANDARD
DTSTART:20220403T020000
TZOFFSETFROM:+1100
TZOFFSETTO:+1000
TZNAME:AEST
END:STANDARD
END:VTIMEZONE
END:VCALENDAR