BEGIN:VCALENDAR
VERSION:2.0
PRODID:-//wp-events-plugin.com//7.2.3.1//EN
TZID:Australia/Sydney
X-WR-TIMEZONE:Australia/Sydney
BEGIN:VEVENT
UID:3394@unswoc.org
DTSTART;TZID=Australia/Sydney;VALUE=DATE:20240316
DTEND;TZID=Australia/Sydney;VALUE=DATE:20240317
DTSTAMP:20240308T032649Z
URL:https://unswoc.org/wordpress/events/saturday-bl-bardens-lookout-sport-
 climbing/
SUMMARY:[FULL] SATURDAY BL - BARDENS LOOKOUT Sport Climbing
DESCRIPTION:“You need to be approved for the main Boree Log event to atte
 nd these trips. Please sign up\nfor only ONE trip per day. If you get reje
 cted you can then sign up for another trip\, this just\nmakes it easier fo
 r volunteer trip leaders. Please be aware that as the weather is\nunpredic
 table\, trip leaders may need to alter trips accordingly”\n\n&nbsp\;\n\n
 Hey everyone\,\n\nAaron\, Hamza and I (Steve Gilbert ) will be leading a b
 eginner friendly sport climbing trip on Saturday of Boree Log to Barden’
 s Lookout Crag in the Blue Mountains. This area is a great place to be int
 roduced to outdoor climbing as there are plenty of easier routes and a var
 iety of grades.\n\nNo outdoor climbing experience is required as we’ll b
 e setting up top ropes. We will teach you the basics of how to safely clim
 b outdoors so just rock up with some hands and feet and hella vibes.\n\nPl
 ease include in the comments:\n\n 	Your rock climbing experience/grade\;\n
  	Your favourite dance move and\n 	What gear you already own.\n\nWe’ll m
 eet near the trailer at the Cathedral of Ferns Campground 🏕️ on Satur
 day morning to collect gear and do a roll call.\n\nMost gear is provided i
 ncluding a harness\, helmet\, safety sling\, locking carabiners\, belay de
 vice but you’ll need to bring:\n\n 	Sunscreen\n 	2L water (stay hydrated
 )\n 	Food\, snacks to share\n 	Comfortable clothes and shoes\n 	Warm jacke
 t\n 	Medication if required\n\nOptional to bring:\n\n 	Climbing shoes\, ch
 alk bag\n\n \n\nPhotos of some epic rock for psych!\n\nSee you there!
CATEGORIES:Outdoor Climbing
LOCATION:https://maps.app.goo.gl/cK6SNN3r88zcmc4o9
END:VEVENT
BEGIN:VTIMEZONE
TZID:Australia/Sydney
X-LIC-LOCATION:Australia/Sydney
BEGIN:DAYLIGHT
DTSTART:20231001T030000
TZOFFSETFROM:+1000
TZOFFSETTO:+1100
TZNAME:AEDT
END:DAYLIGHT
END:VTIMEZONE
END:VCALENDAR