BEGIN:VCALENDAR
VERSION:2.0
PRODID:-//wp-events-plugin.com//7.2.3.1//EN
TZID:Australia/Sydney
X-WR-TIMEZONE:Australia/Sydney
BEGIN:VEVENT
UID:3748@unswoc.org
DTSTART;TZID=Australia/Sydney:20260321T083000
DTEND;TZID=Australia/Sydney:20260321T170000
DTSTAMP:20260305T012346Z
URL:https://unswoc.org/wordpress/events/saturday-bl-bardens-lookout-climbi
 ng-intermediate/
SUMMARY:Saturday BL - Bardens Lookout Climbing [Intermediate]
DESCRIPTION:Hey Everyone!\nDan Burton\, Rhys Creer and I (Raine)\, will be 
 running a sport climbing trip to Barden's Lookout on Saturday. This is a f
 un intermediate area with lots of range\, so we would prefer you have some
  foundational climbing skills. We will set up some top ropes and there may
  also be opportunities to learn to lead routes if we have time and space. 
 We will preferentially be going to Little Trigger's Wall\, but may pivot t
 o Historic Wells if busy. There are many underrated classics there that I 
 think people should try.\n\nWhat you need to bring:\n\nSunscreen\n2L water
  (minimum!)\nFood for the day\nSporty\, comfy clothes\nJacket (just in cas
 e you get cold)\nDay backpack to fit all your stuff\nChalk (optional) (Ple
 ase tell me your favourite chalk brand)\n\nBring the following items if yo
 u have them\, if not we can provide:\n\nHarness\nHelmet\nBelay device (eg 
 ATC)\nLocking carabiner\nClimbing shoes\n\nYou need to be approved for the
  main Boree Log event to attend these trips. Please sign up for only ONE t
 rip per day. If you get rejected you can then sign up for another trip\, t
 his just makes it easier for volunteer trip leaders. Please be aware that 
 as the weather is unpredictable\, trip leaders may need to alter trips acc
 ordingly.\n\nPlease include in the comments: Your climbing experience and 
 gear\, whether you have a car and how many spots.
CATEGORIES:Boree Log,Outdoor Climbing
LOCATION:https://maps.app.goo.gl/LQsa7fZw7UeFeaYv6
END:VEVENT
BEGIN:VTIMEZONE
TZID:Australia/Sydney
X-LIC-LOCATION:Australia/Sydney
BEGIN:DAYLIGHT
DTSTART:20251005T030000
TZOFFSETFROM:+1000
TZOFFSETTO:+1100
TZNAME:AEDT
END:DAYLIGHT
END:VTIMEZONE
END:VCALENDAR