BEGIN:VCALENDAR
VERSION:2.0
PRODID:-//wp-events-plugin.com//7.2.3.1//EN
TZID:Australia/Sydney
X-WR-TIMEZONE:Australia/Sydney
BEGIN:VEVENT
UID:3473@unswoc.org
DTSTART;TZID=Australia/Sydney:20240921T093000
DTEND;TZID=Australia/Sydney:20240921T160000
DTSTAMP:20240918T100010Z
URL:https://unswoc.org/wordpress/events/saturday-beginners-sport-climbing-
 alfords-point-21-9-24/
SUMMARY:Saturday Beginners Sport Climbing Alfords Point 21/9/24
DESCRIPTION:Hi all! Myself (Gabriel)\, Nicolas\, and Tsz Hei (TLIT) will be
  running a trip this saturday to Alfords Point (Sutherland) climbing crag!
  This will be a sports climbing trip\, aimed for beginners!\n\n&nbsp\;\n\n
 We can take a maximum of 9 participants\, and it's first in\, first served
 .\n\n&nbsp\;\n\n\nIn the comments\, please indicate any gear you will need
 \, or have a car\, as well as your favourate exersise!!! and why it is bet
 ter than the rest. YOU MUST ANSWER THE QUESTION TO BE APROVED.\n\n\n&nbsp\
 ;\n\n\nWe will work out carpooling/transporting in the group chat that you
  will be added to when approved.\n\n&nbsp\;\n\nTrip Key Details:\nDate: Sa
 turday - 21th/Sep/2024\nMeeting Location: 100 Sylvan Ridge Dr\, Illawong N
 SW 2234 (Not the house\, just an exact road location. Park anywhere on the
  road\, just not on Maxwell CL\n\n\n\nMeeting Time: 9:30am\nDeparture time
 \, Approx. 4pm\n&nbsp\;\n\nGear Required\,\n\n 	Water - At least 1L CRITIC
 AL\n 	Food: lunch\, snacks. CRITICAL\n 	Helmet*\n 	Harness*\n 	Belay devic
 e and a carabiner*\n 	Climbing shoes* (optional but highly recommended)\n 
 	Sunscreen + Sun Appropriate Clothing (HAT)\n 	Weather appropriate gear\, 
 it may be cold\n\n&nbsp\;\n\nItems with an asterisk (*) can be borrowed fr
 om the gear cupboard.\n\n\nOnce you have been approved for the trip\, we c
 an sort out any gear you may need\, and carpooling\n\n&nbsp\;\n\nGET KEEN!
 \n\n-Gabriel\, Nicolas and (TLIT) Tsz Hei!\n\n&nbsp\;\n\n&nbsp\;
CATEGORIES:Outdoor Climbing
LOCATION:https://www.google.com/maps/place/100+Sylvan+Ridge+Dr,+Illawong+NS
 W+2234/@-33.9902113,151.0281792,19.57z/data=!4m15!1m8!3m7!1s0x6b12bf447f4a
 f69b:0x64f3ea05291216c4!2sSylvan+Ridge+Dr,+Illawong+NSW+2234!3b1!8m2!3d-33
 .9934377!4d151.0289291!16s%2Fg%2F1tgmwfpp!3m5!1s0x6b12bf4146168941:0x13017
 d67e5918921!8m2!3d-33.9902919!4d151.0288804!16s%2Fg%2F11g62k6wd5?entry=ttu
 &g_ep=EgoyMDI0MDkxMS4wIKXMDSoASAFQAw%3D%3D
END:VEVENT
BEGIN:VTIMEZONE
TZID:Australia/Sydney
X-LIC-LOCATION:Australia/Sydney
BEGIN:STANDARD
DTSTART:20240407T020000
TZOFFSETFROM:+1100
TZOFFSETTO:+1000
TZNAME:AEST
END:STANDARD
END:VTIMEZONE
END:VCALENDAR