BEGIN:VCALENDAR
VERSION:2.0
PRODID:-//wp-events-plugin.com//7.2.3.1//EN
TZID:Australia/Sydney
X-WR-TIMEZONE:Australia/Sydney
BEGIN:VEVENT
UID:2355@unswoc.org
DTSTART;VALUE=DATE:20190216
DTEND;VALUE=DATE:20190217
DTSTAMP:20190211T110318Z
URL:https://unswoc.org/wordpress/events/saturday-beginners-rock-climbing-t
 rip-bardens-lookout/
SUMMARY:Saturday - Beginner's Rock Climbing Trip - Barden's Lookout
DESCRIPTION:G’day friends\,\n\nCameron and I [Tadeh] will be leading a ro
 ck climbing trip to Barden's Lookout in the Blue Mountains on Saturday.\n\
 nNo outdoor climbing experience is required as we’ll be setting up top r
 opes. We will teach you the basics of how to safely climb outdoors but it 
 is preferred that you have a basic level of competency with indoor rock cl
 imbing. The easiest climbs are between grade 15 and 18.\n\nPlease include 
 in the comments:\n\n 	Your rock climbing experience/grade\;\n 	Whether you
  are able to drive\;\n 	Your favourite animal\; and\n 	What gear you alrea
 dy own.\n\nWe will meet up at 9:30am on Saturday morning at Barden's Looko
 ut carpark or you can meet us at the crag if you arrive late. I will colle
 ct any gear that you need and bring it up with me.\n\n 	Gear required: ha
 rness\, helmet\, climbing shoes\, ATC + carabiner (if you have your own ma
 ke sure you bring it!!!).\n 	What to bring: sunscreen\, at least 2L of wa
 ter\, food for the day\, sporty clothes\, a day backpack to fit all your s
 tuff inside\, camera\, smiles etc.\n 	Meeting point: 9:30am at Barden's Lo
 okout.\n\nI will be heading up on Friday so you are welcome to camp the ni
 ght before with me or camp in the blue mountains on Saturday night after o
 ur day of climbing but you will need to be self sufficient.\n\nSee you the
 re!\n\nTad Karapetian
CATEGORIES:Outdoor Climbing
END:VEVENT
END:VCALENDAR