BEGIN:VCALENDAR
VERSION:2.0
PRODID:-//wp-events-plugin.com//7.2.3.1//EN
TZID:Australia/Sydney
X-WR-TIMEZONE:Australia/Sydney
BEGIN:VEVENT
UID:2091@unswoc.org
DTSTART;VALUE=DATE:20161029
DTEND;VALUE=DATE:20161030
DTSTAMP:20161026T061203Z
URL:https://unswoc.org/wordpress/events/saturday-beginners-climbing-mt-ale
 x/
SUMMARY:Saturday - Beginners Climbing - Mt. Alex
DESCRIPTION:More details to be added later
CATEGORIES:Outdoor Climbing
END:VEVENT
END:VCALENDAR