BEGIN:VCALENDAR
VERSION:2.0
PRODID:-//wp-events-plugin.com//7.2.3.1//EN
TZID:Australia/Sydney
X-WR-TIMEZONE:Australia/Sydney
BEGIN:VEVENT
UID:2236@unswoc.org
DTSTART;VALUE=DATE:20180317
DTEND;VALUE=DATE:20180318
DTSTAMP:20180312T210806Z
URL:https://unswoc.org/wordpress/events/saturday-beginners-canyoning-boree
 -log-north-bowens-lower-section/
SUMMARY:SATURDAY BEGINNERS CANYONING BOREE LOG - North Bowens Lower Section
DESCRIPTION:It's Boree Log time guys! Woohooo! Come and sign up for this fu
 n and easy canyon suitable for newbies and let myself and David show you a
  whole new world in a magic carpet made of moss.\n\nWhen? \nSaturday\, 17
 th of March Boree Log\n\nFor who?\nThis canyon is suitable for all levels\
 , including beginners\n\nWhat exactly are we going to do?\nDavid and mysel
 f will take you guys through the relaxing and beautiful North Bowens Canyo
 n's lower section. This will involves a little bit of hiking\, a little bi
 t of swimming\, a little bit of jumping into deep pool\, and a little bit 
 of abseiling\, and absolute fun times\n\nAny particular skills required?\n
 As long as you know how to swim\, have reasonable amount of fitness\, can 
 withstand a bit of cold temperature\, comfortable with the idea of abseili
 ng from a 15 metre-high ledge and some jumps into a deep pool of water\, t
 hen you'll be fine. Never abseiled before? We'll teach you how on the spot
 .\n\n&nbsp\;\n\nWhat do I have to bring myself?\n\n 	Thermals (this is to 
 wear underneath your wetsuit for extra warmth and comfort. Not compulsory\
 , so if you decide not to wear one\, you better be sure you're fine with c
 old water)\n 	Dry bag (this is a special waterproof bag to keep your food 
 and dry clothing)\, if you can't get any\, layers and layers of plastic ba
 g/ziplock bag may work too\n 	Woolen socks (no cotton\, please)\n 	Lunch a
 nd snacks (and cutleries if you need them)\n 	Small plastic bag for any ru
 bbish you might produce\n 	Personal medications (if you have to bring any)
 \n 	Water ( at least 1L\, but 2L is preferable)\n 	Closed shoes such as jo
 ggers (runners) or volleys you don't mind getting wet and dirty\n 	A day b
 ackpack to carry everything in this list. Remember this backpack will also
  get wet and dirty\n 	Head torch (you can buy these from outdoors/camping 
 equipment stores like Anaconda\, Mountain Design\, etc)\n 	Boardshort to w
 ear over your wetsuit to protect the wetsuit from any scratch/tear\n 	A ri
 diculous amount of enthusiasm and jokes to entertain the trip leaders\n\n&
 nbsp\;\n\nWhat do I have to bring but the club can lend you one on the spo
 t? \nAny of these items below\, we can lend you on the spot. But if you h
 ave your own\, please do bring them\n\n 	Helmet\n 	Harness\n 	Safety sling
 \n 	ATC\n 	Locking carabiner\n 	Prussik\n 	Wetsuit\n\nIf you have any medi
 cal issues/allergies/injuries please let us know\n\nIMPORTANT NOTE: There 
 is another trip on Saturday Boree Log of the same canyon as this one. Both
  trips will be running but will start with a slight delay. So don't get co
 nfused :)
CATEGORIES:Canyoning
END:VEVENT
END:VCALENDAR