BEGIN:VCALENDAR
VERSION:2.0
PRODID:-//wp-events-plugin.com//7.2.3.1//EN
TZID:Australia/Sydney
X-WR-TIMEZONE:Australia/Sydney
BEGIN:VEVENT
UID:2866@unswoc.org
DTSTART;TZID=Australia/Sydney;VALUE=DATE:20210227
DTEND;TZID=Australia/Sydney;VALUE=DATE:20210228
DTSTAMP:20210225T043217Z
URL:https://unswoc.org/wordpress/events/saturday-beginner-canyoning-trip/
SUMMARY:[*TRIP FULL*]   Saturday Beginner Canyoning Trip
DESCRIPTION:Sorry\, this trip is full! There will be a few more canyoning t
 rips run in the next few weeks\, so keep an eye on our facebook page!\n\nH
 i there! I (Cindy) &amp\; Nadav will be running a canyoning trip this Satu
 rday. It will either be at Fortress Canyon or Dalpura Canyon\, depending o
 n weather. They're both relatively short canyons\, so it'll be a chill day
  out.\n\nAbseiling experience is preferred however\, as this is a beginner
  canyon we can teach you!\n\nWhat to bring:\n\n 	Harness *\n 	Helmet *\n 	
 Figure 8 Device *\n 	2 locking biners *\n 	Safety sling and biner *\n 	Wet
 suit *\n 	Drybag*\n 	Thermals\n 	Emergency blanket (can be purchased for $
 5 from the gear cupboard)\n 	Sunscreen\n 	Lunch\n 	Snacks\n 	2L of water m
 inimum\n 	Dry clothes\n 	Backpack\n 	Enclosed shoes for canyoning (old sho
 es are fine)\n 	Dry shoes (sandals/thongs are great)\n 	Headtorch + spare 
 batteries\n 	Medications/epipens if you need them!\n\nDO NOT BRING COTTON.
  Wet cotton does not insulate and you will get hypothermia!\n\n*you can ge
 t from the gear cupboard on gear night if you don’t have it (open from 4
 -5pm thursday)\n\nPlease let me know:\n\nAny canyoning / abseiling experie
 nce\nDo you have a car\nYOU MUST BE A COMPETENT SWIMMER TO ATTEND THIS TRI
 P!\n\nIf you have any questions\, don't hesitate to message Nadav or I on 
 Facebook!
CATEGORIES:Canyoning
END:VEVENT
BEGIN:VTIMEZONE
TZID:Australia/Sydney
X-LIC-LOCATION:Australia/Sydney
BEGIN:DAYLIGHT
DTSTART:20201004T030000
TZOFFSETFROM:+1000
TZOFFSETTO:+1100
TZNAME:AEDT
END:DAYLIGHT
END:VTIMEZONE
END:VCALENDAR