BEGIN:VCALENDAR
VERSION:2.0
PRODID:-//wp-events-plugin.com//7.2.3.1//EN
TZID:Australia/Sydney
X-WR-TIMEZONE:Australia/Sydney
BEGIN:VEVENT
UID:2338@unswoc.org
DTSTART;VALUE=DATE:20181124
DTEND;VALUE=DATE:20181125
DTSTAMP:20181119T111858Z
URL:https://unswoc.org/wordpress/events/saturday-beginner-canyon-fortress/
SUMMARY:Saturday Beginner Canyon (Fortress)
DESCRIPTION:Join us for Fortress- a beginner friendly canyon trip! The cany
 on ends at a particularly scenic lunch spot. Have a read: http://ozultimat
 e.com/canyoning/track_notes/fortress.htm \n\nPacking list:\n\n 	Wetsuit*\
 n 	Harness*\n 	Belay device and locking carabiner*\n 	Safety sling and loc
 king carabiner*\n 	Thermal top and bottom to wear under wetsuit\n 	Backpac
 k (this will get wet)\n 	Dry bag if you have one\n 	Walking clothes\n 	Woo
 llen socks (no cotton socks!)\n 	Old shorts to wear over wetsuit (protects
  club gear)\n 	Walking shoes (volleys are great if you have them)\n 	Head 
 torch\n 	Snacks\n 	Lunch\n 	1.5L water minimum\n 	Jumper\n 	Sunscreen and 
 hat\n 	Any personal medical supplies (e.g. asthma puffer\, epi-pen)\n\n*Th
 e club has limited supplies so bring your own if you can.
CATEGORIES:Canyoning
END:VEVENT
END:VCALENDAR