BEGIN:VCALENDAR
VERSION:2.0
PRODID:-//wp-events-plugin.com//7.2.3.1//EN
TZID:Australia/Sydney
X-WR-TIMEZONE:Australia/Sydney
BEGIN:VEVENT
UID:2892@unswoc.org
DTSTART;TZID=Australia/Sydney;VALUE=DATE:20210410
DTEND;TZID=Australia/Sydney;VALUE=DATE:20210411
DTSTAMP:20210406T220726Z
URL:https://unswoc.org/wordpress/events/saturday-beginner-canyon-empress/
SUMMARY:Saturday Beginner Canyon - Empress
DESCRIPTION:\n\nCome join Nick and myself this Saturday for a trip down Emp
 ress Canyon. It's a short canyon but still packs in heaps of excitement!\n
 \nExperienced people are welcome\, but we will have a few spots open to be
 ginners and we can teach you to abseil / make sure you’re safe on the da
 y.\n\nYou will need:\n\n 	Harness*\n 	Descender* (figure 8\, or ATC) and a
  carabiner\n 	Safety sling and carabiner*\n 	Prusik and carabiner*\n 	At l
 east 1.5L water\n 	Food: lunch\, snacks.\n 	Emergency blanket (compulsory
  for all club canyons\, can be bought from the gear cupboard for $5)\n 	He
 lmet*\n 	Wetsuit*\n 	Board shorts (to wear over wetsuit\, compulsory if w
 earing a club wetsuit)\n 	Backpack (big enough to hold everything)\n 	Dry
  bag*\n 	Enclosed Shoes (Volleys or old sneakers are good options)\n 	Woo
 llen socks\n 	Headtorch\n 	Thermals to wear under wetsuit\, or old rain ja
 cket to wear over wetsuit if you get cold\n 	Dry thermals/jumper (not cott
 on!) for emergency\n 	Dry clothes to leave in car\n 	Rain jacket\n 	Sunscr
 een\n 	No cotton (it gets very cold when wet)\n\nItems with an asterisk (
 *) can be borrowed from the gear cupboard.\n\nIn the comments please inc
 lude your abseiling and canyoning experience\, whether you’ve got a car 
 with spots\, and what your favourite outdoor snack is (so I know you’ve 
 read this far).\n\nFeel free to message me (Matt Notarangelo) on facebook 
 if you have any questions\, and get keen!
ATTACH;FMTTYPE=image/jpeg:https://unswoc.org/wordpress/wp-content/uploads/
 2021/04/empress_canyon_2020_lg.jpg
CATEGORIES:Canyoning
END:VEVENT
BEGIN:VTIMEZONE
TZID:Australia/Sydney
X-LIC-LOCATION:Australia/Sydney
BEGIN:STANDARD
DTSTART:20210404T020000
TZOFFSETFROM:+1100
TZOFFSETTO:+1000
TZNAME:AEST
END:STANDARD
END:VTIMEZONE
END:VCALENDAR