BEGIN:VCALENDAR
VERSION:2.0
PRODID:-//wp-events-plugin.com//7.2.3.1//EN
TZID:Australia/Sydney
X-WR-TIMEZONE:Australia/Sydney
BEGIN:VEVENT
UID:2199@unswoc.org
DTSTART;VALUE=DATE:20171028
DTEND;VALUE=DATE:20171029
DTSTAMP:20171025T011428Z
URL:https://unswoc.org/wordpress/events/sat-hole-wall-intermediate/
SUMMARY:SAT-Hole in the wall (intermediate)
DESCRIPTION:Hey Boreeloggers!! Saturday trip!!!\n\nManon\, Bayu and Chris
  will be leading a trip into the heart of the Newnes Plateau to the spect
 acular Hole in the Wall canyon: a looooong glow-worm cave and an exit thro
 ugh (you guessed it) a hole in the wall are some cool features to look for
 ward to.\n\nWe have two cars and some spots in each! - we will drive up fr
 iday night BUT since the canyon is before the campground Bayus car will sl
 eep at DTs on friday night and Manon car will most likely sleep at her par
 ents house - both houses are on the blue mountains :) - this means we will
  need everyone to tell us what gear they need! very important!!\n \n\nFor 
 more pictures and track notes\, check out http://ozultimate.com/canyoning
 /track_notes/hole-in-the-wall.htm\n\nThis will be a full day of hiking\, s
 crambling\, wading\, swimming\, abseiling and admiring\, so a reasonable l
 evel of physical fitness is required. Rope skills are preferred\, as is pr
 evious canyoning experience – when you sign up\, make sure you comment (
 or ideally\, stalk one of us on facey and send me a message as well) your 
 experience canyoning or doing other outdoor activities !\n\nEqually as imp
 ortant\, make sure you comment on how you can raise the morale of the grou
 p and make this trip fully sick: promises of copious amounts of sweet dai
 ry-based confectionary and mind-bending riddles are preferred.\n\nWhat you
  need:\n\n	harness**\n	helmet**\n	safety sling + biner**\n	atc + biner**\n
 	wetsuits** - great if you have your own - the club might be a bit stretch
 ed\n	backpack that can get wet\n	headtorch\n	drybag\n	runners that may get
  wet and muddy\n	thermals\n	WOOLEN SOCKS!\n	OLDSHORTS TO PROTECT WETSUIT\
 n	at least 1.5L of water\n	Lunch\n	Snackadactyls\n	Adventure spirit and he
 aps of good mood!**\n\n– If you have your own spaceblanket\, waterproof 
 camera or first aid kit feel free to bring it!\n\n**you can get this from 
 the club - please let me know asap if you need anything!!\n\n&nbsp\;
CATEGORIES:Canyoning
END:VEVENT
END:VCALENDAR