BEGIN:VCALENDAR
VERSION:2.0
PRODID:-//wp-events-plugin.com//7.2.3.1//EN
TZID:Australia/Sydney
X-WR-TIMEZONE:Australia/Sydney
BEGIN:VEVENT
UID:2547@unswoc.org
DTSTART;TZID=Australia/Sydney;VALUE=DATE:20191026
DTEND;TZID=Australia/Sydney;VALUE=DATE:20191027
DTSTAMP:20191020T000800Z
URL:https://unswoc.org/wordpress/events/sat-boree-firefly-canyon/
SUMMARY:Saturday BL - *TRIP FULL* Firefly Canyon
DESCRIPTION:You must be attending and approved for the Boree Log main event
  to sign up for this trip.\n\nGreetings fellow adventurers!\n\nAlie and I 
 invite you to embark on a big day out down Firefly canyon. A good one if y
 ou have some previous canyoning experience and like a bit of an adventure!
  Those selected to attend will be rewarded with newfound skills and knowle
 dge. We will depart from camp early Saturday morning\, but you must be att
 ending Boree log in order to be accepted on this trip. It will be a long d
 ay of more than 12km and a moderate fitness level is expected.\n\nThis vid
 eo is slightly informative\, from last time we went there. https://www.you
 tube.com/watch?v=uDGS6U6IAo0\n\nYou will be expected provide the following
  equipment yourselves:\n\n 	Thermals\n 	Backpack\n 	Lunch\n 	Snacks (prefe
 rably sugary ones)\n 	Dry bag\n 	Enclosed shoes (volleys are best)\n 	Hat/
 sunscreen\n 	Wool socks\n 	Headtorch\n 	Dry clothes\n 	**MUST HAVE** Safet
 y/Space Blanket (will be available for $5 cash on the day)\n\nWe can provi
 de the following equipment if you don't have your own:\n\n 	Wetsuit\n 	Hel
 met\n 	Harness\n 	Descender\n 	Locking biner x2\n 	Safety sling\n\nAdditio
 nal Notes:\n- If you wear/bring cotton socks you will be left at the camps
 ite\n- If you have your own\, waterproof camera or first aid kit feel free
  to bring it!
ATTACH;FMTTYPE=image/jpeg:https://unswoc.org/wordpress/wp-content/uploads/
 2017/10/Annotation-2019-10-16-095901.jpg
CATEGORIES:Boree Log,Canyoning
END:VEVENT
BEGIN:VTIMEZONE
TZID:Australia/Sydney
X-LIC-LOCATION:Australia/Sydney
BEGIN:DAYLIGHT
DTSTART:20191006T030000
TZOFFSETFROM:+1000
TZOFFSETTO:+1100
TZNAME:AEDT
END:DAYLIGHT
END:VTIMEZONE
END:VCALENDAR