BEGIN:VCALENDAR
VERSION:2.0
PRODID:-//wp-events-plugin.com//7.2.3.1//EN
TZID:Australia/Sydney
X-WR-TIMEZONE:Australia/Sydney
BEGIN:VEVENT
UID:3717@unswoc.org
DTSTART;TZID=Australia/Sydney:20260131T090000
DTEND;TZID=Australia/Sydney:20260131T140000
DTSTAMP:20260126T213203Z
URL:https://unswoc.org/wordpress/events/sat-31-jan-mountain-bike-trip-oaks
 -fire-trail/
SUMMARY:SAT 31 JAN - Mountain Bike Trip - Oaks Fire Trail
DESCRIPTION:Howdy legends! Keith and I are heading out for a fun\, beginner
 -friendly MTB ride down the Woodford Oaks Fire Trail this Saturday\, 31st 
 Jan\nIt’s 50/50 downhill / uphill\, super scenic\, and perfect if you're
  keen to try out riding in the Blue Mountains without anything too hectic.
 \n\n&nbsp\;\n\nWhat to Bring:\n\nMountain bike (bring your own or organise
  a rental)\n\nHelmet – *Absolutely Essential*\n\nWater (at least 2L)\n\n
 Snacks/lunch\n\nSun protection &amp\; comfy riding clothes\n\nGo pro - If 
 you want proof of your sick riding skills :)\n\n&nbsp\;\n\nPls comment dow
 n below what bike you are bringing?\n\n&nbsp\;\n\nWe’ll ride from Woodfo
 rd Station (9AM Start) to Glenbrook\n\nIf you are planning on driving up\,
  park at Glenbrook and take the train to Woodford station.\n\n&nbsp\;
CATEGORIES:Mountain Biking
LOCATION:https://share.google/MAkDizsqqtiNJBBxS
END:VEVENT
BEGIN:VTIMEZONE
TZID:Australia/Sydney
X-LIC-LOCATION:Australia/Sydney
BEGIN:DAYLIGHT
DTSTART:20251005T030000
TZOFFSETFROM:+1000
TZOFFSETTO:+1100
TZNAME:AEDT
END:DAYLIGHT
END:VTIMEZONE
END:VCALENDAR