BEGIN:VCALENDAR
VERSION:2.0
PRODID:-//wp-events-plugin.com//7.2.3.1//EN
TZID:Australia/Sydney
X-WR-TIMEZONE:Australia/Sydney
BEGIN:VEVENT
UID:2753@unswoc.org
DTSTART;TZID=Australia/Sydney;VALUE=DATE:20201017
DTEND;TZID=Australia/Sydney;VALUE=DATE:20201018
DTSTAMP:20201013T211308Z
URL:https://unswoc.org/wordpress/events/sat-17-oct-beginner-sport-climbing
 -trip/
SUMMARY:Sat 17 Oct - Beginner Sport Climbing Trip
DESCRIPTION:Hi friends\,\n\nCam and I (Mac) are leading a trip to Corrobore
 e at Mount Victoria. It's got a nice walk in\, lovely views\, and some gre
 at climbs in the range 15-24. We will be setting up top ropes so no experi
 ence is required! Let us know if you are interested in learning to lead an
 d we can show you where to get started :)\n\nWe will need a few drivers\, 
 or 1 driver and 4 people can get the train to Mount Victoria and I can pic
 k them up there. Please let me know in the comments if you are happy to dr
 ive/give lifts.\n\n 	\n\n 	At least 1L water\n 	Food: lunch\, snacks\n 	He
 lmet*\n\n\n 	Harness*\n 	Belay device and a carabiner*\n 	Climbing shoes*
  (optional but highly recommended)\n 	A warm jacket\n 	Sunscreen\n\n\n 	I
 tems with an asterisk (*) can be borrowed from the gear cupboard. We will 
 also need to ask a few people to pick up ropes and extra bits from the gea
 r cupboard as neither Cam or I will be able to make it this week. Please a
 lso let me know if you are happy to do this in the booking form!\n\nYou ca
 n have a look at the crag here\n\nThe forecast looks a bit average so we w
 ill keep an eye on it and make a final call on Friday as to whether the tr
 ip goes ahead\n\nSee you there!
CATEGORIES:Climbing,Outdoor Climbing
END:VEVENT
BEGIN:VTIMEZONE
TZID:Australia/Sydney
X-LIC-LOCATION:Australia/Sydney
BEGIN:DAYLIGHT
DTSTART:20201004T030000
TZOFFSETFROM:+1000
TZOFFSETTO:+1100
TZNAME:AEDT
END:DAYLIGHT
END:VTIMEZONE
END:VCALENDAR