BEGIN:VCALENDAR
VERSION:2.0
PRODID:-//wp-events-plugin.com//7.2.3.1//EN
TZID:Australia/Sydney
X-WR-TIMEZONE:Australia/Sydney
BEGIN:VEVENT
UID:1475@unswoc.org
DTSTART;VALUE=DATE:20151031
DTEND;VALUE=DATE:20151101
DTSTAMP:20151026T012531Z
URL:https://unswoc.org/wordpress/events/sams-10th-anniversary-bludge-trip-
 intermediate-bushwalk/
SUMMARY:Boree Log Intermediate Bushwalk - Sam's 10th Anniversary Bludge Tri
 p
DESCRIPTION:Hey everyone\,\n\nThis will be my 10th Boree Log. To celebrate 
 I'm going to use the excuse to pass on all that stressfull ropes and climb
 ing and abseiling stuff\, and go for a "relaxing" bushwalk to an area of t
 he mountains I haven't visited before.\n\nThe plan for the day is to walk 
 up Little Capertree Creek to the Wolgan-Capertee divide\, and have a look 
 around. This area is in Gardens of Stone National Park and true to the nam
 e there are many spectacular rock pinnacles caves and pagodas\, and great 
 views over the Capertee valley. As a favourite of many old crusty bushwalk
 ers\, it's a trip for connoisseurs.\n\nThis trip should be about a round t
 rip\, with about on road or track\, and a few kms of off-track walking and
  scrambling to the crest of the divide. Be prepared for some easy rock cli
 mbing and unpleasant bush bashing - a good comparison might be the climb o
 f Mt Solitary near Katoomba\, but without a well-worn track. Disclaimer - 
 I haven't done this walk before so I'm just guessing!\n\nYou should come p
 repared with good hiking boots or shoes and wollen socks\, small backpack\
 , a large water bottle or two\, and of course a large tasty lunch (hard dr
 inks optional). I prefer thin hiking pants and long sleeved shirts for bus
 hwalking\, as I don't like scratched arms and legs\, but many walk in shor
 ts. Preferably not jeans though!\n\n[caption id="" align="alignnone" width
 ="1000"] The "Pagoda Of Death"[/caption]
CATEGORIES:Boree Log,Bushwalking
LOCATION:Newnes Campground\, Wolgan Road\, Newnes\, NSW\, Australia
GEO:-33.174751;150.237030
X-APPLE-STRUCTURED-LOCATION;VALUE=URI;X-ADDRESS=Wolgan Road\, Newnes\, NSW\
 , Australia;X-APPLE-RADIUS=100;X-TITLE=Newnes Campground:geo:-33.174751,15
 0.237030
END:VEVENT
END:VCALENDAR