BEGIN:VCALENDAR
VERSION:2.0
PRODID:-//wp-events-plugin.com//7.2.3.1//EN
TZID:Australia/Sydney
X-WR-TIMEZONE:Australia/Sydney
BEGIN:VEVENT
UID:1509@unswoc.org
DTSTART:20151031T140000Z
DTEND:20151031T180000Z
DTSTAMP:20151028T062546Z
URL:https://unswoc.org/wordpress/events/rwc-final-aus-vs-nz/
SUMMARY:RWC Final Aus vs. NZ
DESCRIPTION:Hey team!\n\nWe're heading to Tilly's dads to watch the Wallabi
 es play the All Blacks in the RWC Final! Thankyou Tillyyyyyy and Royyyyyyy
 .\nLeaving camp at 1:15am. Hayden and I will be driving. We're then headin
 g back to camp for the morning round up.\n\n\n\n\n
CATEGORIES:Boree Log,Social Event
LOCATION:\, \, 
X-APPLE-STRUCTURED-LOCATION;VALUE=URI;X-ADDRESS=\, ;X-APPLE-RADIUS=100;X-TI
 TLE=:geo:0,0
END:VEVENT
END:VCALENDAR