BEGIN:VCALENDAR
VERSION:2.0
PRODID:-//wp-events-plugin.com//7.2.3.1//EN
TZID:Australia/Sydney
X-WR-TIMEZONE:Australia/Sydney
BEGIN:VEVENT
UID:2265@unswoc.org
DTSTART:20180721T200000Z
DTEND:20180722T070000Z
DTSTAMP:20180716T124717Z
URL:https://unswoc.org/wordpress/events/ruined-castle/
SUMMARY:Ruined castle
DESCRIPTION:So\, day walk folks.\nKatoomba to the towering castle ruins. A 
 great way to get quickly introduced to the mountains. We will be leaving S
 ydney either by car or by train at 7:00am on Sunday morning and should be 
 returning at about 6:00pm. This walk requires a good level of fitness as i
 t have quite a bit of elevation loss and gain. Bring lunch and plenty of s
 nacks as well as at least 2l of water. A hat and sunscreen is also a great
  good idea. If you have any questions don’t hesitate to message either m
 e\, Mira Bug or fellow trip leader Ash Brennan. Hope to see you there!\n\n
 https://www.nationalparks.nsw.gov.au/things-to-do/walking-tracks/ruined-ca
 stle-walking-track
END:VEVENT
END:VCALENDAR