BEGIN:VCALENDAR
VERSION:2.0
PRODID:-//wp-events-plugin.com//7.2.3.1//EN
TZID:Australia/Sydney
X-WR-TIMEZONE:Australia/Sydney
BEGIN:VEVENT
UID:2475@unswoc.org
DTSTART;TZID=Australia/Sydney;VALUE=DATE:20190929
DTEND;TZID=Australia/Sydney;VALUE=DATE:20190930
DTSTAMP:20190924T014938Z
URL:https://unswoc.org/wordpress/events/ruined-castle-blue-mountains-day-w
 alk/
SUMMARY:Ruined Castle - Blue Mountains Day Walk
DESCRIPTION:Blue Mountains Day Walk this Sunday 29th September.\n\n\n\nThe 
 Ruined Castle is an iconic walk in the blue-mountains. From Katoomba Stati
 on we will walk down to the Three sisters\, down to the Giant Stairway and
  then walk to the Ruined castle. The walk requires a moderate level of fit
 ness as it is a full days walk. New members are very welcome to come along
 !\n\nWe can catch public transport up to Katoomba unless members have cars
  available in which case we can drive and potentially access different par
 ts of the track. If you do have access to a car please contact me on 04272
 34898\n\nEssential Gear:\n- Water 2L minimum. There will be no water sourc
 es available once we leave Katoomba.\n- Bring Lunch and snacks\n- Sun Prot
 ection (Slip\, slop\, slap kidz)\n- Opal Cards\n\nAny questions give me a 
 ring on 0427234898\n\nHappy Hiking\,\nBrendan.
CATEGORIES:Bushwalking
END:VEVENT
BEGIN:VTIMEZONE
TZID:Australia/Sydney
X-LIC-LOCATION:Australia/Sydney
BEGIN:STANDARD
DTSTART:20190407T020000
TZOFFSETFROM:+1100
TZOFFSETTO:+1000
TZNAME:AEST
END:STANDARD
END:VTIMEZONE
END:VCALENDAR