BEGIN:VCALENDAR
VERSION:2.0
PRODID:-//wp-events-plugin.com//7.2.3.1//EN
TZID:Australia/Sydney
X-WR-TIMEZONE:Australia/Sydney
BEGIN:VEVENT
UID:640@unswoc.org
DTSTART;VALUE=DATE:20141024
DTEND;VALUE=DATE:20141025
DTSTAMP:20141022T201922Z
URL:https://unswoc.org/wordpress/events/royal-national-park-walk/
SUMMARY:Royal national park walk
DESCRIPTION:Ok\, my mate who was keen has had to pull out. unless anyone el
 se is keen i will postpone this till another time. \n\n\n\n\n\n\n\nOn Frid
 ay I'm doing the royal national park hike. 27 km of fairly easy hiking thr
 ough some awesome scenery. Catching the ferry from Cronulla to bundeena th
 en hiking down to the train station at Oxford. It is a full day and finish
  times may vary. Last time we stared and finished during daylight.\nExperi
 ence requirement-\nnone\, beginner friendly\nFitness requirement-\nmust be
  able to walk for a whole day on uneven terrain.\n\nCost -\nferry $6.40\nt
 rain approx $6.80 adult to central.\n\nGear-\n-good shoes\, preferably hik
 ing boots.\n-Rain coat/ hard shell. There are possible showers that day.\n
 -Sun protection.\n-water there are no taps on this section\, either carry 
 or filter water. I will be bringing a filter.\n-Food. Lunch and snacks to 
 keep your energy up.\n-headlamp and compass are never a bad idea\, but opt
 ional
CATEGORIES:Bushwalking
LOCATION:Cronulla train stn\, Cronulla\, Sydney\, Australia
GEO:-34.055374;151.151596
X-APPLE-STRUCTURED-LOCATION;VALUE=URI;X-ADDRESS=Cronulla\, Sydney\, Austral
 ia;X-APPLE-RADIUS=100;X-TITLE=Cronulla train stn:geo:-34.055374,151.151596
END:VEVENT
END:VCALENDAR