BEGIN:VCALENDAR
VERSION:2.0
PRODID:-//wp-events-plugin.com//7.2.3.1//EN
TZID:Australia/Sydney
X-WR-TIMEZONE:Australia/Sydney
BEGIN:VEVENT
UID:2053@unswoc.org
DTSTART:20160826T220000Z
DTEND:20160828T060000Z
DTSTAMP:20160823T114515Z
URL:https://unswoc.org/wordpress/events/royal-national-park-overnight-inte
 rmediate-hiking/
SUMMARY:Royal National Park overnight - Beginner/Intermediate hiking
DESCRIPTION:Just moved in from overseas? trying to explore the greener side
  of Australia? prefer wilderness over getting shitfaced in Side bar\, back
 packer style? You are looking at the right place!\nCome join us in the roy
 al national park - Imagine yourself standing on top of a cliff\, huge sto
 rm clouds fly over the ocean\, you can feel the sea spray melting on you
 r face. Your ears surrounded by the echo of the waves\, there is no pain\,
  you are totally not having a heat stroke\, there is no dropbear above you
  ahhh fuck it i hate meditation\n\n=============\n\nUPDATE: David have ki
 ndly organised most of this event - here is the plan---&gt\; RNPitinerary
 \n\n=============\n\nP.S: Wedding cake rock area is fenced off for safety 
 reasons. sadly you can not recreate the picture sitting on the rock\n\nPac
 king list:\n\nDavid have included it in the itinerary file\n\nFew tips her
 e:\n\nMake sure you have a sleeping pad - you can't sleep with just a slee
 ping bag.\nbring 5L of water at least\nbring toilet paper unless you don'
 t mind wiping with pine needles :D\nYour bag fully loaded should be 15kg o
 r less\, don't overpack\n\nWe made a post on Facebook if you have any ques
 tions\, go to gear cupboard at wednesday 5pm if you need to borrow gear\,
  please let us know if you are no longer able to come :)\n\nAll the best\,
 \nVictor
END:VEVENT
END:VCALENDAR