BEGIN:VCALENDAR
VERSION:2.0
PRODID:-//wp-events-plugin.com//7.2.3.1//EN
TZID:Australia/Sydney
X-WR-TIMEZONE:Australia/Sydney
BEGIN:VEVENT
UID:2281@unswoc.org
DTSTART;VALUE=DATE:20180908
DTEND;VALUE=DATE:20180910
DTSTAMP:20200126T222814Z
URL:https://unswoc.org/wordpress/events/royal-national-park-coast-track/
SUMMARY:Royal National Park – Coast Track
DESCRIPTION:Okay so the plan is to meet at central station at 8:10am to cat
 ch the 8:23 train ($4.50) to Cronulla. (Be mindful that we will leave you 
 behind if you are late to the train station)From Cronulla\, we take a ferr
 y to Bundeena ($6.40) where the walk begins.\n\nThe first day is 18 km\, a
 round 7 hours of walking from Bundeena to North Era camp ground ($4 campin
 g fee) where we will be camping (passing wedding cake rock\, Watermalla an
 d a bunch of other cool things).\n\nThe second day is very short with only
  8 km till Otford (passing figure 8 pools and such) where we will be catch
 ing a train back to Sydney.We will be aiming to be back to Sydney mid-afte
 rnoon.\n\nThis is not a difficult hike but fitness is required.\n\nPlease 
 Facebook message either Ash Brennan or myself (Ping Li) when you request a
  place on the trip. (If you also message us a joke\, your chances of getti
 ng on the trip is increased by 17%.)\n\nOnce the numbers have been finalis
 ed\, we will divide into tent/food groups so that we don’t waste energy 
 carry excess stuff.\n\nYou’ll need:\n\n 	Hiking pack\n 	Tent (one per gr
 oup)\n 	Sleeping bag/mat\n 	Food (TBD within your group)\n 	Cooking Stove 
 (one per group\, can be borrowed from gear cupboard)\n 	WATER (bring at le
 ast 3L)\n 	Warm clothes (thermals are essential\, it’s might get cold ov
 ernight)\n 	Rain Jacket\n 	Comfortable shoes\n 	Toiletries etc\n\nGet keen
 !!!!\n\nPing &amp\; Ash out
CATEGORIES:Hectic Hiking
END:VEVENT
END:VCALENDAR