BEGIN:VCALENDAR
VERSION:2.0
PRODID:-//wp-events-plugin.com//7.2.3.1//EN
TZID:Australia/Sydney
X-WR-TIMEZONE:Australia/Sydney
BEGIN:VEVENT
UID:2146@unswoc.org
DTSTART:20170428T193000Z
DTEND:20170429T033000Z
DTSTAMP:20170422T035514Z
URL:https://unswoc.org/wordpress/events/royal-national-park-coast-track-tr
 ail-run/
SUMMARY:Royal National Park Coast Track Trail Run
DESCRIPTION:Running along the beautiful coast track from Otford to Bundeena
 . The plan is to take it fairly casual\, with a mix of running and walking
  up hills\, although this can be adapted to the group fitness level. We'l
 l stop at Gary's Beach and Wattamola for some swimming and lunch\, as well
  as the local photo opps of eagle rock\, wedding cake rock and figure eigh
 t pools.\n\nMeet at central early on Saturday (catching the 6:30-7:30am tr
 ain to Otford)\, arriving back at central in approximately 7-8 hours\n\nSo
 me trail running experience is preferred\, although fit hikers will probab
 ly be okay too.\n\nBe sure to bring:\n\n	running pack\n	Water (2L+)\n	food
  (lunch and some snacks)\n	sun protection (hat sunscreen)\n	appropriate cl
 othes for running (and optionally swimming)\n	phone\n	cash for Bundeena fe
 rry\n	snake bite bandage (if you have one)\n\n&nbsp\;
CATEGORIES:Bushwalking
END:VEVENT
END:VCALENDAR