BEGIN:VCALENDAR
VERSION:2.0
PRODID:-//wp-events-plugin.com//7.2.3.1//EN
TZID:Australia/Sydney
X-WR-TIMEZONE:Australia/Sydney
BEGIN:VEVENT
UID:290@unswoc.org
DTSTART:20130904T073000Z
DTEND:20130904T100000Z
DTSTAMP:20191011T111332Z
URL:https://unswoc.org/wordpress/events/ropes-knots-rigging-workshop/
SUMMARY:Ropes\, knots and rigging workshop
DESCRIPTION:Do knots send you into a tangle? This workshop is designed to b
 ring you up to speed with rigging techniques and knots that will make rock
 -climbing\, abseiling\, canyoning and other rope-based activities more app
 roachable\, fun and safe.\n\nWe're going to be covering a wide range of kn
 ots\, hitches and bends for purposes such as building anchors and securing
  yourself to them\, moving up and down a fixed rope\, and self-rescue. We'
 ll also cover quickdraw and carabiner dos and don'ts.\n\n$5 will cover piz
 za and some 6mm cord for you to play with and take home.\n\nPlease let me 
 know of any dietary requirements.
CATEGORIES:Training
END:VEVENT
END:VCALENDAR