BEGIN:VCALENDAR
VERSION:2.0
PRODID:-//wp-events-plugin.com//7.2.3.1//EN
TZID:Australia/Sydney
X-WR-TIMEZONE:Australia/Sydney
BEGIN:VEVENT
UID:2411@unswoc.org
DTSTART:20190523T073000Z
DTEND:20190523T090000Z
DTSTAMP:20190520T060827Z
URL:https://unswoc.org/wordpress/events/rope-skills-training-the-ledge-201
 9-05-23/
SUMMARY:Rope Skills Training @ The Ledge
DESCRIPTION:Following the Rope Skills courses that many of our trip leaders
  have completed with ASM\, I plan to run 4 training sessions for the next 
 4 Thursdays at the Ledge. We will cover a similar curriculum and learn a f
 ew rope skills that are essential to climbing\, abseiling\, canyoning\, et
 c.\n\nThese sessions are designed for active club members who are already 
 independent climbers (know how to lead climb\, lead belay\, and abseil). 
 If you plan to become a trip leader\, if you're already a trip leader\, an
 d in general if you plan to stay for long in the club\, sign up! Spots are
  very limited so please write down in the comments how you and the club wo
 uld benefit from training.\n\n 	Night 1 (23rd): Prusiking. Includes self-b
 elaying with classic and french prusik\, and ascending a rope with kleimhe
 ist.\n 	Night 2 (30th): Isolated-strand abseiling and abseiling past a kno
 t. Includes stone knot\, alpine butterfly\, and prusiking past a knot.\n 	
 Night 3 (6th): Top belay and releasable abseil. Includes how to top belay 
 in tubular mode\, guide mode\, and how to set up a releasable abseil throu
 gh a pre-locked munter hitch.\n 	Night 4 (13th): Rescue and hauling system
 s. Includes assisted and unassisted hauling (3:1).\n\nIf you have any ques
 tions\, message me on facebook. You'll need to bring your personal climbin
 g gear. Happy climbing :)\n\nMaria
CATEGORIES:Training
END:VEVENT
END:VCALENDAR