BEGIN:VCALENDAR
VERSION:2.0
PRODID:-//wp-events-plugin.com//7.2.3.1//EN
TZID:Australia/Sydney
X-WR-TIMEZONE:Australia/Sydney
BEGIN:VEVENT
UID:1955@unswoc.org
DTSTART:20160223T050000Z
DTEND:20160223T063000Z
DTSTAMP:20160223T050821Z
URL:https://unswoc.org/wordpress/events/rolling-practice/
SUMMARY:Rolling Practice
DESCRIPTION:Intermediate rolling practice.\n\n&nbsp\;\n\nIf you are interes
 ted in finding out more about our rolling practices message Alie\, Jarrod\
 , Niels or Kylie on facebook.
CATEGORIES:Whitewater Kayaking
END:VEVENT
END:VCALENDAR