BEGIN:VCALENDAR
VERSION:2.0
PRODID:-//wp-events-plugin.com//7.2.3.1//EN
TZID:Australia/Sydney
X-WR-TIMEZONE:Australia/Sydney
BEGIN:VEVENT
UID:2098@unswoc.org
DTSTART:20170205T030000Z
DTEND:20170205T070000Z
DTSTAMP:20170202T205345Z
URL:https://unswoc.org/wordpress/events/roll-practice/
SUMMARY:Roll practice
DESCRIPTION:I will be off to a hidden pool between Coogee and Maroubra Sund
 ay afternoon for some rolling practice then will head down to Maroubra bea
 ch for some fun in the waves. Come join!
CATEGORIES:Whitewater Kayaking
END:VEVENT
END:VCALENDAR