BEGIN:VCALENDAR
VERSION:2.0
PRODID:-//wp-events-plugin.com//7.2.3.1//EN
TZID:Australia/Sydney
X-WR-TIMEZONE:Australia/Sydney
BEGIN:VEVENT
UID:2064@unswoc.org
DTSTART:20161014T130000Z
DTEND:20161015T130000Z
DTSTAMP:20160922T061800Z
URL:https://unswoc.org/wordpress/events/rogaining/
SUMMARY:Rogaining
DESCRIPTION:Hey guys\, another rogaine is coming up. This time it is in the
  Blue Mountains! There will be an 8hr and 24hr event\, but I will probably
  do the 8hr.\n\nSign up here and I will sort out teams after the long week
 end.\n\nEvent details can be found here\, http://nswrogaining.org/AboutEv
 ents/Events/16NC/16NC.htm\n\n&nbsp\;\n\n
CATEGORIES:Rogaining
END:VEVENT
END:VCALENDAR