BEGIN:VCALENDAR
VERSION:2.0
PRODID:-//wp-events-plugin.com//7.2.3.1//EN
TZID:Australia/Sydney
X-WR-TIMEZONE:Australia/Sydney
BEGIN:VEVENT
UID:1962@unswoc.org
DTSTART;VALUE=DATE:20160521
DTEND;VALUE=DATE:20160522
DTSTAMP:20160417T235448Z
URL:https://unswoc.org/wordpress/events/rogaining-2/
SUMMARY:Rogaining
DESCRIPTION:NSW Rogaining is organising an event for the 21st of May. I am 
 keen to get a team (or many teams) together for this event. Please registe
 r your interest here. We will organise final plan closer to the date.\n\nT
 here will be a registration fee for the Rogaine\, which I will post up onc
 e registration for the event opens. It is usually about $40-60.\n\nhttp://
 nswrogaining.org/AboutEvents/Events/16AG/16AG.htm\n\n&nbsp\;\n\nFor those 
 of you that don't know what Rogaining is\, it is a navigation 'race. You m
 ust visit checkpoints hidden in the bush. Each checkpoint is worth a certa
 in number of points\, and you aim to get as many points as you can in the 
 allotted time. It is a lot of fun\, and I a REALLY good way to improve you
 r navigation skills!\n\n&nbsp\;\n\n&nbsp\;\n\n
END:VEVENT
END:VCALENDAR