BEGIN:VCALENDAR
VERSION:2.0
PRODID:-//wp-events-plugin.com//7.2.3.1//EN
TZID:Australia/Sydney
X-WR-TIMEZONE:Australia/Sydney
BEGIN:VEVENT
UID:2897@unswoc.org
DTSTART;TZID=Australia/Sydney;VALUE=DATE:20210508
DTEND;TZID=Australia/Sydney;VALUE=DATE:20210509
DTSTAMP:20210417T051858Z
URL:https://unswoc.org/wordpress/events/rogaine-8th-may-6-12-hr/
SUMMARY:Rogaine 8th May! (6/12 hr)
DESCRIPTION:Hello UNSWOCers\, \n\nVery excited to be heading along to the u
 pcoming 'Autumngaine ' on the 8th of May in Belangalo State forest!\n\nSui
 table for complete beginners and competitors a like we'll have a blast nav
 igating our way around the fantastic scenery of the state forest. I'd love
  to see lots of new faces\, old hands and those interested in learning abo
 ut navigation come along - All welcome!\n\nFor those looking to brush up o
 n some nav before head along to the upcoming overnight hike/nav adventure 
 ¿por qué no los dos? Overnight hike AND Navigation adventure\n\nDetails 
 of the NSW Rogaining event page can be seen on the webpage --&gt\;  NSW Ro
 gaining Site HERE\n\nWhen? 8th of May.\n\nWhere? Belangalo State Forest (2
 hrs from UNSW)\n\nHow much? $40 for a student concession\, else $60.\n\nAm
 azing - how do I sign up? Please sign up below and comment your rogaining 
 experience\, 6 or 12 hr preference and Carpooling/Car situation and we'll 
 organize some fantastic teams!\n\nLet me know in the comments below!\n\nBr
 endan\n\n\n
ATTACH;FMTTYPE=image/jpeg:https://unswoc.org/wordpress/wp-content/uploads/
 2021/03/64873260_906934876320841_688455275836866560_n.jpg
CATEGORIES:Rogaining
END:VEVENT
BEGIN:VTIMEZONE
TZID:Australia/Sydney
X-LIC-LOCATION:Australia/Sydney
BEGIN:STANDARD
DTSTART:20210404T020000
TZOFFSETFROM:+1100
TZOFFSETTO:+1000
TZNAME:AEST
END:STANDARD
END:VTIMEZONE
END:VCALENDAR