BEGIN:VCALENDAR
VERSION:2.0
PRODID:-//wp-events-plugin.com//7.2.3.1//EN
TZID:Australia/Sydney
X-WR-TIMEZONE:Australia/Sydney
BEGIN:VEVENT
UID:2998@unswoc.org
DTSTART;TZID=Australia/Sydney;VALUE=DATE:20220507
DTEND;TZID=Australia/Sydney;VALUE=DATE:20220508
DTSTAMP:20220422T093458Z
URL:https://unswoc.org/wordpress/events/rogaine-7th-may-6-12-hr/
SUMMARY:Rogaine 7th May! (6/12 hr)
DESCRIPTION:[caption id="" align="alignnone" width="2048"] Pictured: Happy 
 UNSWOCers at last year's Autumngaine. These smiles could be yours![/captio
 n]\n\nHello UNSWOCers\,\n\nVery excited to be heading along to the upcomin
 g 'Autumngaine' on the 7th of May in the Garland Valley!\n\nSuitable for c
 omplete beginners and competitors alike\, we'll have a blast navigating ou
 r way around the fantastic scenery of native forest and open grassy valley
 s. I'd love to see lots of new faces\, old hands and those interested in l
 earning about navigation come along - All welcome!\n\nDetails of the NSW R
 ogaining event page can be seen on the webpage --&gt\; NSW Rogaining Site 
 HERE\n\nWhen? 7th of May.\n\nWhere? Garland Valley (2:15 hrs NW of UNSW)\n
 \nHow much? $55 for a student concession\, else $85.\n\nAmazing - how do I
  sign up? Please sign up below and leave a comment with the following deet
 s so we can help find you a team:\n\n 	Your rogaining/orienteering experie
 nce\n 	Preference for 6 or 12 hour event\n 	Desired team vibe - are you lo
 oking for a chill stroll through the forest to brush up on your nav skills
 \, or a competitive team that will keep up with you sprinting between the 
 controls?\n 	Carpooling/car situation\n 	Whether there's any fellow signup
 s you'd prefer to be on a team with (if there's anyone you'd prefer NOT to
  be on a team with\, please message me privately and we can cater for that
  too).\n\nLet me know in the comments below!\n\nStephen\n\n&nbsp\;\n\nPS. 
 Thank you Brendan for the event template!
ATTACH;FMTTYPE=image/jpeg:https://unswoc.org/wordpress/wp-content/uploads/
 2021/03/64873260_906934876320841_688455275836866560_n.jpg
CATEGORIES:Rogaining
END:VEVENT
BEGIN:VTIMEZONE
TZID:Australia/Sydney
X-LIC-LOCATION:Australia/Sydney
BEGIN:STANDARD
DTSTART:20220403T020000
TZOFFSETFROM:+1100
TZOFFSETTO:+1000
TZNAME:AEST
END:STANDARD
END:VTIMEZONE
END:VCALENDAR