BEGIN:VCALENDAR
VERSION:2.0
PRODID:-//wp-events-plugin.com//7.2.3.1//EN
TZID:Australia/Sydney
X-WR-TIMEZONE:Australia/Sydney
BEGIN:VEVENT
UID:3003@unswoc.org
DTSTART;TZID=Australia/Sydney:20220507T090000
DTEND;TZID=Australia/Sydney:20220507T110000
DTSTAMP:20220503T082208Z
URL:https://unswoc.org/wordpress/events/road-ride-in-the-north/
SUMMARY:Road ride in the north
DESCRIPTION:I will run a road ride in the north on Saturday in the morning.
  I will determine the route based on who comes\, could be anything from a 
 ride in lane cove national park to a tour of the gorges (Bobbin head and b
 eyond).\n\nPlease comment how best to contact you so we can discuss route 
 and your road cycling experience.
CATEGORIES:Biking
END:VEVENT
BEGIN:VTIMEZONE
TZID:Australia/Sydney
X-LIC-LOCATION:Australia/Sydney
BEGIN:STANDARD
DTSTART:20220403T020000
TZOFFSETFROM:+1100
TZOFFSETTO:+1000
TZNAME:AEST
END:STANDARD
END:VTIMEZONE
END:VCALENDAR