BEGIN:VCALENDAR
VERSION:2.0
PRODID:-//wp-events-plugin.com//7.2.3.1//EN
TZID:Australia/Sydney
X-WR-TIMEZONE:Australia/Sydney
BEGIN:VEVENT
UID:2764@unswoc.org
DTSTART;TZID=Australia/Sydney:20201114T080000
DTEND;TZID=Australia/Sydney:20201114T110000
DTSTAMP:20201110T023747Z
URL:https://unswoc.org/wordpress/events/road-ride-city-to-olympic-park-and
 -back/
SUMMARY:Road ride - City to Olympic Park and back
DESCRIPTION:\n\nHello fellow bike riders\,\n\nElliott Vercoe and I (Oliver)
  are planning to run a morning ride from the city to Olympic Park to intro
 duce some club members to the joys of road cycling. Its very flat and 75% 
 cycle ways which should be super fun. We will go fairly early in the morni
 ng to avoid as much traffic (car and pedestrian) as possible and to be bac
 k at a reasonable time of the day.\n\nThis this the route we have come up 
 with and we think it is a pretty great route for all skill levels:\n\nhttp
 s://www.komoot.com/tour/282949044?ref=wtd\n\nWe will meet on the Pyrmont b
 ridge at 8am so that should be easy enough for everyone to get too either 
 ride there or train etc. If you need to drive let me know and we can arran
 ge to meet you somewhere you can park.\n\nThe turn around point is Wentwor
 th Point but if people are feeling good the path continues to Paramatta al
 ong the river so we will make that call on the day.\n\nWhat to bring (thes
 e should all be fairly obvious):\n\n 	Yourself\,\n 	A working bike\,\n 	A 
 helmet\,\n 	A water bottle on your bike\,\n 	A snack like a muesli bar\,\n
  	Usual bike attire (inc closed toe shoes)\,\n 	Any spares/tools you usual
 ly carry\,\n 	Maybe a card or some cash for a café stop.\n\nPlease have y
 our bike in working condition\, I will bring some tools but am riding from
  Turramurra so am not keen to carry too many extras. If you need help sett
 ing/fixing up your bike please let me know ahead of time so we can sort it
  out.\n\nPlease comment where your starting from (roughly) and if you have
  a drop bar bike or not.\n\nAny questions please message Elliott or I.\n\n
 &nbsp\;\n\n&nbsp\;
ATTACH;FMTTYPE=image/jpeg:https://unswoc.org/wordpress/wp-content/uploads/
 2020/11/2009-Cycling-in-Bicentennial-Park.jpg
CATEGORIES:Biking
END:VEVENT
BEGIN:VTIMEZONE
TZID:Australia/Sydney
X-LIC-LOCATION:Australia/Sydney
BEGIN:DAYLIGHT
DTSTART:20201004T030000
TZOFFSETFROM:+1000
TZOFFSETTO:+1100
TZNAME:AEDT
END:DAYLIGHT
END:VTIMEZONE
END:VCALENDAR