BEGIN:VCALENDAR
VERSION:2.0
PRODID:-//wp-events-plugin.com//7.2.3.1//EN
TZID:Australia/Sydney
X-WR-TIMEZONE:Australia/Sydney
BEGIN:VEVENT
UID:2908@unswoc.org
DTSTART;TZID=Australia/Sydney:20210513T074500
DTEND;TZID=Australia/Sydney:20210513T083000
DTSTAMP:20210510T105546Z
URL:https://unswoc.org/wordpress/events/return-of-the-death-stairs/
SUMMARY:Return of the Death Stairs
DESCRIPTION:Winter is coming and so it's time to get some hill fitness back
 !\n\nJoin me this Thursday for some cardio at the South Coogee Stairs. The
  plan is to ease back into things with some laps of the stairs\, most like
 ly walking this week :) If it goes well\, we'll try to make it a regular t
 hing!\n\nMeet at 13 Denning Street\, South Coogee at 7.40am for a 7.45am s
 tart.\n\nYou will need: running shoes\, sunscreen if you burn easily and s
 ome water.\n\n
CATEGORIES:Training
END:VEVENT
BEGIN:VTIMEZONE
TZID:Australia/Sydney
X-LIC-LOCATION:Australia/Sydney
BEGIN:STANDARD
DTSTART:20210404T020000
TZOFFSETFROM:+1100
TZOFFSETTO:+1000
TZNAME:AEST
END:STANDARD
END:VTIMEZONE
END:VCALENDAR