BEGIN:VCALENDAR
VERSION:2.0
PRODID:-//wp-events-plugin.com//7.2.3.1//EN
TZID:Australia/Sydney
X-WR-TIMEZONE:Australia/Sydney
BEGIN:VEVENT
UID:3640@unswoc.org
DTSTART;TZID=Australia/Sydney:20250910T180000
DTEND;TZID=Australia/Sydney:20250910T220000
DTSTAMP:20250930T014832Z
URL:https://unswoc.org/wordpress/events/rescued-story-night-2025/
SUMMARY:Rescued Story Night 2025
DESCRIPTION:Rescued Story Night 2025\nJoin us for an evening of stories fro
 m our members about adventures that didn’t go to plan. These talks are a
 ll about learning\, how accidents could have been prevented\, and what hel
 ped in the response when things went wrong.\n\nThe aim is to share the lea
 rnings from these incidents with the club\, and to destigmatise sharing yo
 ur mistakes. We hope that listening to these talks will help you be prepar
 ed for the worst\, and what training and gear can help if you find yoursel
 f in need of rescue.\n\n\nWhen: Wednesday 10th of September\nLocation: UNS
 W Campus\n\nPatricia O'Shane Building\n\nRoom G04\n\nEvent starts: 6:00pm\
 nFirst presentation: 6:30pm\n\nWe’ll hear about hiking\, climbing\, and 
 canyoning\, both in Australia and overseas:\n\n 	Brendan Conneely - Ankle 
 injury canyoning in New Zealand\n 	Daniel Gilbert - Pneumothorax mid-climb
  (Where Lungs Fear to Pop)\n 	Elliot Vercoe - Helicopter extraction trekki
 ng in Nepal\n 	Gabriel Dickinson - Ground fall climbing Sweet Dreams\n 	Gl
 enn Southern - Fall in Pipeline Canyon\n 	Jason Brand - Broken pelvis cany
 oning in Taiwan\n\nWant to share your story?\nIf you have an experience yo
 u’d like to share\, now or in the future\, please get in touch with me v
 ia messenger\, or email - training@unswoc.org.\nA note to attendees\n\n 	T
 his event isn’t about glamorising accidents or risk-taking. It’s about
  learning how good preparation\, training\, and gear can minimise risks.\n
  	These stories involve traumatic experiences. Please be respectful\, list
 en with empathy\, and keep discussions judgment-free.\n\nPlease sign up be
 low so we can get an idea of numbers.\nJoining Online?\n[s2If is_user_logg
 ed_in()]\n\nWatch the livestream and recording at https://www.youtube.com/
 watch?v=TC4Pmysz88Q\n\n[/s2If] [s2If !is_user_logged_in()]\n\nPlease log i
 n to see the YouTube Livestream and Recording link.\n\n[/s2If]\n\n&nbsp\;
ATTACH;FMTTYPE=image/jpeg:https://unswoc.org/wordpress/wp-content/uploads/
 2025/08/rescuedstoryposter.jpg
CATEGORIES:Social Event
LOCATION:https://maps.app.goo.gl/GFkLxnsJ9JVJebEr5
END:VEVENT
BEGIN:VTIMEZONE
TZID:Australia/Sydney
X-LIC-LOCATION:Australia/Sydney
BEGIN:STANDARD
DTSTART:20250406T020000
TZOFFSETFROM:+1100
TZOFFSETTO:+1000
TZNAME:AEST
END:STANDARD
END:VTIMEZONE
END:VCALENDAR