BEGIN:VCALENDAR
VERSION:2.0
PRODID:-//wp-events-plugin.com//7.2.3.1//EN
TZID:Australia/Sydney
X-WR-TIMEZONE:Australia/Sydney
BEGIN:VEVENT
UID:3340@unswoc.org
DTSTART;TZID=Australia/Sydney;VALUE=DATE:20231215
DTEND;TZID=Australia/Sydney;VALUE=DATE:20231218
DTSTAMP:20231006T080021Z
URL:https://unswoc.org/wordpress/events/remote-area-first-aid-15th-17th-de
 cember-2023/
SUMMARY:Remote Area First Aid | 15th -17th December 2023
DESCRIPTION:When Wilderness First Aid Australia (Wilderness First Aid Aust.
  an RTO)  will be teaching the course 8am  Friday 15th – 4pm Sunday 17
 th December 2023 for UNSWOC members. A night scenario will take place duri
 ng the course.It will be an intense 3 days but rewarding and equip you wit
 h a nationally recognized qualification for your back country adventures.\
 n\nWhere: Outdoor Education Facility in Mt Victoria "The Grange" 38 Selsdo
 n St\, Mount Victoria NSW 2786  (2hrs West of Sydney)\n\nWhat kind of acc
 ommodation?: Private house/dormitory style shared kitchen\, classroom faci
 lities and toilets.\n\nWhat to bring: Outdoors clothes\, a set of clothes 
 to get dirty (i.e fake blood)\, camping equipment all meals and food to be
  self catered.\n\nTransport: Train from Central to Mt Victoria Station. Ca
 rpool via Private Vehicle (Participants to organise)\n\nCost:\n\nTrip lead
 ers are a valuable and essential part of UNSWOC\, they will be rewarded wi
 th subsidized training. If you would like to be a trip leader (As you can 
 see\, there are some awesome opportunities available) please leave a comme
 nt below.\n\nActive trip leaders total cost:~ $600 AUD -&gt\; down to $100
  after trip leading. Deposit $250 AUD (Payable before Course)  Subsidy fo
 r trip leaders: Up to $500 @ $75-100 per trip lead (Calculated at the end 
 of each term\, as ratified by UNSWOC Exec)\n\nNon-Active Trip Leaders: Cos
 t: $600 AUD (Full fee payable prior to course)\n\nNon-UNSWOC Member: $600 
 AUD (Full fee payable prior to course)\n\nIf you are an UNSWOC member and 
 finances are a barrier to attending the course\, please contact safety@uns
 woc.org for a case by case arrangement\n\n&nbsp\;\n\nFunding thankyou UNS
 WOC will fund the training for active trip leaders as a thank you for thei
 r hard work\n\nPre-existing requirement   Prework is essential (there wil
 l be an online handbook sent out). There are not prior first aid qualifica
 tions needed to start or sign up for this course.\n\nQualifications Upon c
 ompletion you will have from the RTO certificate for a National Qualificat
 ionHLTAID009 Provide cardiopulmonary resuscitation\nHLTAID010 Provide basi
 c emergency life support\nHLTAID011 Provide First Aid\nHLTAID013 Provide F
 irst Aid in remote or isolated site\n\nSign ups: 12-16 places available (w
 ait list included) so signups are essential. Please comment below. Priorit
 y will be given to TLIT and Trip leaders without RAFA or expiring. Those w
 ho previously missed out on a course will be given priority.\n\nBrendan.\n
 \nQuestions? Email me @ safety@unswoc.org
CATEGORIES:Training
LOCATION:https://maps.app.goo.gl/cVK39v3NUaTps614A
END:VEVENT
BEGIN:VTIMEZONE
TZID:Australia/Sydney
X-LIC-LOCATION:Australia/Sydney
BEGIN:DAYLIGHT
DTSTART:20231001T030000
TZOFFSETFROM:+1000
TZOFFSETTO:+1100
TZNAME:AEDT
END:DAYLIGHT
END:VTIMEZONE
END:VCALENDAR