BEGIN:VCALENDAR
VERSION:2.0
PRODID:-//wp-events-plugin.com//7.2.3.1//EN
TZID:Australia/Sydney
X-WR-TIMEZONE:Australia/Sydney
BEGIN:VEVENT
UID:2256@unswoc.org
DTSTART;VALUE=DATE:20180728
DTEND;VALUE=DATE:20180730
DTSTAMP:20180527T211306Z
URL:https://unswoc.org/wordpress/events/remote-area-aid/
SUMMARY:Remote Area First Aid course
DESCRIPTION:So… remote area first aid course on 28/29th July. Full days b
 oth Sat and Sun PLUS an online component to be completed beforehand. Venue
  TBA\n\nQualifications: You need to have a pre-existing 'Provide First Aid
 ' cert to get the 'Remote Area First Aid' qualification\, but if you don't
  care about the cert then it's all good :)\n\nTraining is done by AllAid F
 irst Aid (https://www.allaid.com.au/). U Syd has apparently done a course 
 with them and recommended it :)\n\nSign up to the trip*\, then depending o
 n who signs up\, we’ll approve the spots for 16 and message you to ask y
 ou to pay the deposit to secure your spot.\n\nIn terms of who gets spots\,
  preference goes to:\n1. Active trip leaders (on the calendar)/those activ
 ely involved in training trip leaders/exec actively involved in organizing
  it\n2. People who have contributed lots to the club in the past\, and fut
 ure trip-leaders-in-training (including those who have started to co-lead 
 this sem)\n\n\nWithin those categories it’ll mostly be first come first 
 serve (unless there’s a trip leader that ticks both categories 1 and 2 
 – i.e. either currently active + has already given a lot\, or currently 
 active + likely to continue to be super involved in the future).\n\nHope t
 hat's all ok!\n\nThere’s an exec meeting on Tuesday evening\, so it won
 ’t just be me deciding who fits into what category dw 😉\n\n
CATEGORIES:Training
END:VEVENT
END:VCALENDAR