BEGIN:VCALENDAR
VERSION:2.0
PRODID:-//wp-events-plugin.com//7.2.3.1//EN
TZID:Australia/Sydney
X-WR-TIMEZONE:Australia/Sydney
BEGIN:VEVENT
UID:3524@unswoc.org
DTSTART;TZID=Australia/Sydney:20250318T193000
DTEND;TZID=Australia/Sydney:20250318T210000
DTSTAMP:20250306T082224Z
URL:https://unswoc.org/wordpress/events/reel-rock-19-at-the-ritz/
SUMMARY:Reel Rock 19 at the Ritz!
DESCRIPTION:Reel Rock 19\nRandwick Ritz Cinema\,\nTuesday March 18th\, 7:30
 pm-9:00pm\nHey Everyone!\n\nReel Rock is back again this year with another
  lineup of epic films! If you’ve been before\, you know to be excited\, 
 and if you haven’t yet then come be inspired! We have been lucky enough 
 to receive a discount code for tickets so sign up if you’re keen!\n\nIf 
 you're free and feeling social around 6pm before the show\, we'll grab din
 ner! Click HERE to join the messenger chat!\n\nDon’t worry if you don’
 t know anyone else going. We’d love to have as many people join us as po
 ssible and it’s always good to meet some more fellow outdoors enthusiast
 s. Just join the chat as well and we'll all meet up before we head in. Fee
 l free to bring other friends along too. It’s sure to be a great night!\
 n\n\n\n\n\nAbout Reel Rock 19\nReel Rock 19 showcases three world-premiere
  climbing films spanning disciplines\, characters\, and continents: a hear
 tfelt story of second chances in love and climbing on Squamish’s legenda
 ry Cobra Crack\; an outrageous 18-day big wall epic on Patagonia’s tower
 ing Torre Central\; and the pursuit of a lifelong dream—a 5.15 first asc
 ent—made possible by an unlikely partnership. Reel Rock 19 is on tour wo
 rldwide starting March 2025.\n\n&nbsp\;\n\nDEATH OF VILLAINS: A former chi
 ld climbing-prodigy confronts his struggle with disordered eating to attem
 pt his life-long dream of climbing a groundbreaking 5.15 first ascent\, wi
 th the help of an unlikely\, and controversial partner.\n\nFeaturing: Kai 
 Lightner &amp\; Joe Kinder\n\n&nbsp\;\n\nRIDERS ON THE STORM: Three Belgia
 n big-wallers endure eighteen days of howling snowstorms\, frozen feet\, a
 nd gnarly runouts in their attempt to make a long-coveted alpine first asc
 ent. \n\nFeaturing: Siebe Vanhee\, Sean Villanueva O’Driscoll &amp\; Ni
 co Favresse\n\n&nbsp\;\n\nTHE COBRA &amp\; THE HEART: A turbulent 20-year 
 saga of love\, loss\, and redemption: a whirlwind romance\, a crushing def
 eat on a legendary climb\, a religious epiphany\, and family betrayal\, al
 l building to a desperate bid for a rare second chance—at love\, fatherh
 ood\, and climbing.\n\nFeaturing: Didier Berthod\, Thomasina Pidgeon &amp\
 ; Cedar Pidgeon\n\n\n\nLooking forward to seeing you all there! If you hav
 e any questions (about Reel Rock or even other club stuff!) don't hesitate
  to reach out to me (Amelia V) HERE on Facebook messenger or via email at 
 president@unswoc.org\n\nOPTIONAL: Two truths and a lie in the comment. Pur
 ely for my entertainment.
CATEGORIES:Social Event
LOCATION:https://maps.app.goo.gl/g33qV3A67qd1fZ1W7
END:VEVENT
BEGIN:VTIMEZONE
TZID:Australia/Sydney
X-LIC-LOCATION:Australia/Sydney
BEGIN:DAYLIGHT
DTSTART:20241006T030000
TZOFFSETFROM:+1000
TZOFFSETTO:+1100
TZNAME:AEDT
END:DAYLIGHT
END:VTIMEZONE
END:VCALENDAR