BEGIN:VCALENDAR
VERSION:2.0
PRODID:-//wp-events-plugin.com//7.2.3.1//EN
TZID:Australia/Sydney
X-WR-TIMEZONE:Australia/Sydney
BEGIN:VEVENT
UID:3377@unswoc.org
DTSTART;TZID=Australia/Sydney:20240320T190000
DTEND;TZID=Australia/Sydney:20240320T210000
DTSTAMP:20240225T042628Z
URL:https://unswoc.org/wordpress/events/reel-rock-18/
SUMMARY:Reel Rock 18 - Discounted Tickets!
DESCRIPTION:REEL ROCK 18\nWednesday March 20\, 7pm\nRandwick Ritz Cinema\n\
 n\nHey Everyone!\n\nReel Rock is back for another year and its better than
  ever! If you've been before\, you know to be excited\, and if you haven't
  yet then come be inspired! We have been lucky enough to receive a discoun
 t code for cheaper tickets so sign up if you’re keen!\n\n\n\nAbout Reel 
 Rock 18\nReel Rock is coming to Australia and New Zealand in March 2024 wi
 th four thrilling new films! From Japan’s Mt. Mizugaki to the Peruvian A
 ndes and beyond\, we’ve got gripping stories to share. It's gonna be an 
 exhilarating adventure\, and we'd be thrilled to have you along for the ri
 de!\nCheck Out the Awesome Film Line Up:\nSachi Style - Follow the philoso
 phical journey of Japanese climbing phenom Sachi Amma\, as he evolves from
  three-time world champion to traditional climbing purist\, culminating in
  a visionary first ascent on the mythical Mt. Mizugaki.\nClimbing Never Di
 e - Climbing journalist Matt Groom journeys deep into war-torn Ukraine to 
 discover a community held together by climbing and patriotism\, but indeli
 bly changed by war.\nJirishanca - Renowned alpinists Josh Wharton and Vinc
 e Anderson attempt a free ascent of the Jirishanca\, an epic 20\,000-foot 
 peak in the Peruvian Andes. The duo will have to tackle 5.13 face climbing
 \, horizontal ice roofs\, technical mixed terrain and treacherous snow mus
 hrooms as they reconcile the inherent risk of climbing with their love of 
 alpine adventure.\nYeah Buddy-  Australian climber Angie Scarth-Johnson\,
  who first made her mark setting records at a young age\, teams up with ve
 teran adventure climber Hazel Findlay to explore the best of Mallorca’s 
 deep-water soloing.\n&nbsp\;\nSign up to this event for our sweet discount
  code for the Randwick screening. If you can't make ours\, then get your t
 ickets to a different screening here:\nAU - https://www.reelrockfilmtour.
 com/austickets\nNZ - https://www.reelrockfilmtour.com/nztickets\nhttps://
 youtu.be/yx4iHNaaOBE\n\n\n\nSo How Do I Get the Discount?\nSign up to this
  event. Once you’ve been approved we’ll add you to a Facebook messenge
 r group for the secret discount code. The discount code should give you ac
 cess to $10 off tickets! If your Facebook profile is not linked to your UN
 SWOC account\, please include the link in the comment below.\n\n\n\nHow Wi
 ll I Know How to Find Everyone Else?\nThat’s the beauty of the messenger
  group! Don’t worry if you don’t know anyone else going. We’d love t
 o have as many people join us as possible and it’s always good to meet s
 ome more fellow outdoors enthusiasts. It’s sure to be a great night! Com
 e along and join the fun!\n\n\n\nIf you have any questions\, feel free to 
 contact me\, Amelia Vasiliou\, on messenger\n
CATEGORIES:Social Event
LOCATION:https://maps.app.goo.gl/1aKHUZ5ygSufJtri9
END:VEVENT
BEGIN:VTIMEZONE
TZID:Australia/Sydney
X-LIC-LOCATION:Australia/Sydney
BEGIN:DAYLIGHT
DTSTART:20231001T030000
TZOFFSETFROM:+1000
TZOFFSETTO:+1100
TZNAME:AEDT
END:DAYLIGHT
END:VTIMEZONE
END:VCALENDAR