BEGIN:VCALENDAR
VERSION:2.0
PRODID:-//wp-events-plugin.com//7.2.3.1//EN
TZID:Australia/Sydney
X-WR-TIMEZONE:Australia/Sydney
BEGIN:VEVENT
UID:2997@unswoc.org
DTSTART;TZID=Australia/Sydney:20220426T190000
DTEND;TZID=Australia/Sydney:20220426T213000
DTSTAMP:20220421T230203Z
URL:https://unswoc.org/wordpress/events/reel-rock-16-at-the-ritz/
SUMMARY:Reel Rock 16 at the Ritz!
DESCRIPTION:***THIS EVENT IS NOW FULL***\n\nYou can still request to signup
  below and will go onto a waiting list in case someone can't make it anymo
 re. Alternatively\, REEL ROCK still has publicly available tickets at both
  its Randwick Screening and various other locations and dates around Sydne
 y. More info can be found here: https://www.reelrockfilmtour.com.au/ticket
 s.html\n\n***THIS EVENT IS NOW FULL***\n\n&nbsp\;\n\nThe well awaited Reel
  Rock film tour is back this year\, only with some of the best climbing fi
 lms yet...\n\nThe team organising the Reel Rock screenings around Sydney h
 ave kindly teamed up with us to get some of our club members cheaper ticke
 ts to see the film next Tuesday night (26th April) at the Ritz Cinemas in 
 Randwick. We do only have 20 tickets so it will be first in\, best dressed
  situation\, do sign up fast!\n\n\n\nFor almost two decades\, the annual R
 eel Rock travelling film tour has showcased some of the greatest stories w
 ithin the world of climbing\, celebrating the human side of the sport's gr
 eatest achievements and adventures. Each year they put a new series of the
  best climbing films together and take them worldwide\, spreading the atte
 ntion upon this amazing sport and the love that we all share for it. This 
 year's line up will be the biggest yet featuring Alex Honnold\, Tommy Cald
 well\, Alex Johnson\, Charles Albert\, Pete Whittaker\, and Tom Randall!!\
 n\nJust sign up for the event and once you’re approved\, we shall sort o
 ut tix!\n\nDont miss it!
ATTACH;FMTTYPE=image/jpeg:https://unswoc.org/wordpress/wp-content/uploads/
 2022/04/Big-Things-to-Come-1.jpeg
CATEGORIES:Social Event
END:VEVENT
BEGIN:VTIMEZONE
TZID:Australia/Sydney
X-LIC-LOCATION:Australia/Sydney
BEGIN:STANDARD
DTSTART:20220403T020000
TZOFFSETFROM:+1100
TZOFFSETTO:+1000
TZNAME:AEST
END:STANDARD
END:VTIMEZONE
END:VCALENDAR