BEGIN:VCALENDAR
VERSION:2.0
PRODID:-//wp-events-plugin.com//7.2.3.1//EN
TZID:Australia/Sydney
X-WR-TIMEZONE:Australia/Sydney
BEGIN:VEVENT
UID:2884@unswoc.org
DTSTART;TZID=Australia/Sydney:20210318T180000
DTEND;TZID=Australia/Sydney:20210318T201500
DTSTAMP:20210310T010729Z
URL:https://unswoc.org/wordpress/events/reel-rock-15-discounted-tickets/
SUMMARY:Reel Rock 15 Discounted Tickets
DESCRIPTION:\n\nHey Guys\,\n\nReel Rock 15 is showing at the Ritz Cinema on
  Thursday the 18th of March\, and UNSWOC has managed to gain access to 20 
 discounted tickets!\n\nFor just $15 you will witness some of the greatest 
 stories in climbing from the last year\, and with four new feature films y
 our excitement\, psych\, ambition and climbing appetite will be stoked to 
 a whole new level !!!\n\nBecause of limited tickets please tell us why you
  wish to attend.\n\nIf you are accepted we will contact you about payment 
 methods and send you the ticket.\n\nHope to see you there\, and if you mis
 s out feel free to purchase your own tickets.\n\n&nbsp\;\n\nBuy your own t
 ickets and find out more about the film at:\n\nReel Rock 15 - Ritz Cinemas
 \n\n&nbsp\;
CATEGORIES:Social Event
END:VEVENT
BEGIN:VTIMEZONE
TZID:Australia/Sydney
X-LIC-LOCATION:Australia/Sydney
BEGIN:DAYLIGHT
DTSTART:20201004T030000
TZOFFSETFROM:+1000
TZOFFSETTO:+1100
TZNAME:AEDT
END:DAYLIGHT
END:VTIMEZONE
END:VCALENDAR