BEGIN:VCALENDAR
VERSION:2.0
PRODID:-//wp-events-plugin.com//7.2.3.1//EN
TZID:Australia/Sydney
X-WR-TIMEZONE:Australia/Sydney
BEGIN:VEVENT
UID:470@unswoc.org
DTSTART;VALUE=DATE:20140412
DTEND;VALUE=DATE:20140413
DTSTAMP:20140410T175734Z
URL:https://unswoc.org/wordpress/events/red-rocks-rafting/
SUMMARY:Red Rocks Rafting
DESCRIPTION:Third time's the charm...\n\nAs discussed on the Whitewater@UNS
 W facebook group. Tomorrow we will attempt to raft the Red Rocks Gorge of 
 the Murrumbidgee near Tuggeranong in Canberra. Hopefully the level will be
  about 2.5m.\n\nhttp://www.kayakcanberra.com/guide/\n\nMeeting at the gear
  cupboard at 7pm to pack the whitewater gear into the S.A. car. Camping at
  Point Hut Crossing tonight\, then up bright and early to shuttle and padd
 dle.\n\nWe will camp at Bungonia on saturday night for Luke's birthday. I'
 m returning to sydney sunday morning. Damon and Luke will stay with the S.
 A. and do canyoning or caving on sunday.
CATEGORIES:Flat Water Kayaking
LOCATION:Red Rocks Gorge\, Kambah Pool Road\, Tuggeranong\, ACT\, Australia
GEO:-35.395061;149.008865
X-APPLE-STRUCTURED-LOCATION;VALUE=URI;X-ADDRESS=Kambah Pool Road\, Tuggeran
 ong\, ACT\, Australia;X-APPLE-RADIUS=100;X-TITLE=Red Rocks Gorge:geo:-35.3
 95061,149.008865
END:VEVENT
END:VCALENDAR