BEGIN:VCALENDAR
VERSION:2.0
PRODID:-//wp-events-plugin.com//7.2.3.1//EN
TZID:Australia/Sydney
X-WR-TIMEZONE:Australia/Sydney
BEGIN:VEVENT
UID:631@unswoc.org
DTSTART;VALUE=DATE:20141018
DTEND;VALUE=DATE:20141020
DTSTAMP:20141016T170723Z
URL:https://unswoc.org/wordpress/events/reccy-canyoning-trip-barrington-to
 ps/
SUMMARY:Reccy Canyoning Trip to Barrington Tops 
DESCRIPTION:Hey guys\,\n\nA few of us will be heading up to Barrington Tops
  NP this weekend to do a reccy mission for Boree Log. Planning to do a run
  through Gloucester Falls canyon on Saturday and Williams River canyon on
  Sunday.\n\nGiven the snow that fell in the area earlier this week\, it sh
 ould be a refreshing trip!
CATEGORIES:Canyoning
END:VEVENT
END:VCALENDAR