BEGIN:VCALENDAR
VERSION:2.0
PRODID:-//wp-events-plugin.com//7.2.3.1//EN
TZID:Australia/Sydney
X-WR-TIMEZONE:Australia/Sydney
BEGIN:VEVENT
UID:2095@unswoc.org
DTSTART:20161212T130000Z
DTEND:20170105T130000Z
DTSTAMP:20161204T123643Z
URL:https://unswoc.org/wordpress/events/raz-matazz/
SUMMARY:Raz MaTazz
DESCRIPTION:Taz climbing. Private trip. If you'd like to come\, sort out a 
 car and let us know. Cracksss
END:VEVENT
END:VCALENDAR