BEGIN:VCALENDAR
VERSION:2.0
PRODID:-//wp-events-plugin.com//7.2.3.1//EN
TZID:Australia/Sydney
X-WR-TIMEZONE:Australia/Sydney
BEGIN:VEVENT
UID:2094@unswoc.org
DTSTART;VALUE=DATE:20161114
DTEND;VALUE=DATE:20161116
DTSTAMP:20161112T065729Z
URL:https://unswoc.org/wordpress/events/rawr-retrieval-action-with-referen
 ce-to-helmet/
SUMMARY:R*A*W*R - Retrieval Action With-Reference-to Helmet
DESCRIPTION:Hey\,\n\nAidan\, with my invaluable help left a club helmet in 
 a cave we did at Boree Log\, Aidan\, Alie\, Izzy and I are going back for 
 two days of caving\, including. B35\, Drum cave and Blowfly.\n\nThe plan i
 s to drive down in Aidan’s car and come back on Tuesday night.\n\nYou wi
 ll need:\n\nFood *2 days\n\nWater\n\nHarness + biner + atc\n\nAnd a headto
 rch\n\n- Dion
CATEGORIES:Caving
END:VEVENT
END:VCALENDAR