BEGIN:VCALENDAR
VERSION:2.0
PRODID:-//wp-events-plugin.com//7.2.3.1//EN
TZID:Australia/Sydney
X-WR-TIMEZONE:Australia/Sydney
BEGIN:VEVENT
UID:2252@unswoc.org
DTSTART;VALUE=DATE:20180505
DTEND;VALUE=DATE:20180506
DTSTAMP:20180504T122121Z
URL:https://unswoc.org/wordpress/events/ranon-canyon/
SUMMARY:Ranon Canyon
DESCRIPTION:Get dat insurance
END:VEVENT
END:VCALENDAR