BEGIN:VCALENDAR
VERSION:2.0
PRODID:-//wp-events-plugin.com//7.2.3.1//EN
TZID:Australia/Sydney
X-WR-TIMEZONE:Australia/Sydney
BEGIN:VEVENT
UID:2134@unswoc.org
DTSTART:20170324T213000Z
DTEND:20170325T010000Z
DTSTAMP:20170323T101408Z
URL:https://unswoc.org/wordpress/events/raftingkayak-roll-maroubra/
SUMMARY:Rafting/kayak roll at Maroubra
DESCRIPTION:Hey all\n\nI though after last weekends mess of a trip somethin
 g that requires a little less organisation could be fun. This trip is beg
 inner friendly\, but you MUST be able to swim more than 25m.\n\nPlan is to
  meet at Maroubra at 8:30ish (near the Surf Life Saving Club on the north 
 end of the beach) look for a big fat orange raft. and take the raft out fo
 r a spin and have a bit of fun with it\, I will also bring a few kayaks do
 wn so people can have a go capsizing kayaks and learning how to roll them 
 back up.\n\nWe will Finish at the beach around 12 then take all the gear b
 ack into storage together.\n\nI will have all the gear just bring the usua
 l stuff you would take to the beach ie towel\, change of clothes\, wet sui
 t.\n\nShould be a pretty chill day and will be hanging around for a few ho
 urs so if you dont want to raft but just come down and say hi and go surfi
 ng thats cool too :)\n\nCheers\n\nAidan\n\n&nbsp\;
CATEGORIES:Flat Water Kayaking,Whitewater Kayaking
END:VEVENT
END:VCALENDAR