BEGIN:VCALENDAR
VERSION:2.0
PRODID:-//wp-events-plugin.com//7.2.3.1//EN
TZID:Australia/Sydney
X-WR-TIMEZONE:Australia/Sydney
BEGIN:VEVENT
UID:2129@unswoc.org
DTSTART;VALUE=DATE:20170319
DTEND;VALUE=DATE:20170320
DTSTAMP:20170317T084622Z
URL:https://unswoc.org/wordpress/events/rafting-shoalhaven/
SUMMARY:Rafting down the shoalhaven
DESCRIPTION:Hey this is just a gear list a location details for rafting on 
 Sunday.\n\nAs there is high demand for this trip\, narrow time frame and p
 addler ability to consider so this is just for communal reading and record
 s for insurance. Please do not sign up if you have not been invited. If yo
 u want to come next time come along to rolling sessions at UNSW which will
  start soon.\n\n&nbsp\;\n\nOkay so we plan to meet at 8am the meeting poin
 t is on Oallen Rd where the road crosses Ningee Nimble Creek which is just
  past Welcome Reef\, 850 Oallen Rd\, Oallen NSW 2622 see link below\n\nht
 tps://www.google.com.au/maps/place/Welcome+Reef\,+850+Oallen+Rd\,+Oallen+N
 SW+2622/@-35.1646317\,149.9887141\,17z/data=!3m1!4b1!4m5!3m4!1s0x6b14250d8
 67586b1:0xbe0f9fdc6f1df881!8m2!3d-35.1646317!4d149.9909028\n\nJarrod\, pos
 sibly Alie and myself will already be down there so it is up to you to gra
 b a lift down.\n\nGear list\n\nI have all essential kayaking gear but you 
 will need\n\nFood\, Water\, Wet Suit\, thermals for under wet suit if you 
 get cold\, enclosed shoes (similar as if you were canyoning)\, dry bag if 
 you have one (i have spares) warm gear for after\, dry clothes\, if you ha
 ve your own Type II life jacket please bring it.\n\nthat should be it ask 
 me questions in the chat\n\ncheers\n\n&nbsp\;\n\n&nbsp\;
END:VEVENT
END:VCALENDAR