BEGIN:VCALENDAR
VERSION:2.0
PRODID:-//wp-events-plugin.com//7.2.3.1//EN
TZID:Australia/Sydney
X-WR-TIMEZONE:Australia/Sydney
BEGIN:VEVENT
UID:2580@unswoc.org
DTSTART;TZID=Australia/Sydney;VALUE=DATE:20191117
DTEND;TZID=Australia/Sydney;VALUE=DATE:20191118
DTSTAMP:20191115T024017Z
URL:https://unswoc.org/wordpress/events/rad-beginner-climbing-trip/
SUMMARY:Rad Beginner Climbing Trip to Lost & Found Wall!
DESCRIPTION:Hey everyone!\n\nJenny and I (Nic) will be leading a super begi
 nner-friendly trip to a crag near Sydney. This is the perfect trip for peo
 ple that are new to outdoor climbing or are new to lead climbing. We a
 re happy to teach you the basics of both! 🙂\n\nWe haven't decided on a
  crag yet\, partly due to changing fire conditions\, but have a few ideas.
  However if you have suggestions for somewhere you've wanted to go we're o
 pen to suggestions.\n&nbsp\;\n\nNo climbing experience is required\, but y
 ou will need:\n\n 	Climbing gear: A harness*\, helmet*\, climbing shoes* a
 nd chalk bag (* = could be borrowed from the club).\n 	For clothing: Spor
 t clothes. It can get quite hot or quite chilly\, so be prepared for both.
 \n 	For sustenance: 2L of water\, food or snacks\, chocolate for trip lea
 ders 😉\n 	Other gear: Sunscreen\, medicines if you need them (asthma 
 puffer\, etc).\n\nIf you have any questions\, comments\, concerns\, death 
 threats\, or dead budgerigars\, message Jenny Stansby or myself (Nicolas D
 i Campli) on Facebook. Write down what gear you need\, your experience\,
  and whether you want to learn to lead climb!\n\nGet stoked\, it should b
 e a fun day!
ATTACH;FMTTYPE=image/jpeg:https://unswoc.org/wordpress/wp-content/uploads/
 2018/07/37772306_2319180958092386_8461426726667288576_n.jpg
END:VEVENT
BEGIN:VTIMEZONE
TZID:Australia/Sydney
X-LIC-LOCATION:Australia/Sydney
BEGIN:DAYLIGHT
DTSTART:20191006T030000
TZOFFSETFROM:+1000
TZOFFSETTO:+1100
TZNAME:AEDT
END:DAYLIGHT
END:VTIMEZONE
END:VCALENDAR