BEGIN:VCALENDAR
VERSION:2.0
PRODID:-//wp-events-plugin.com//7.2.3.1//EN
TZID:Australia/Sydney
X-WR-TIMEZONE:Australia/Sydney
BEGIN:VEVENT
UID:2023@unswoc.org
DTSTART;VALUE=DATE:20160528
DTEND;VALUE=DATE:20160530
DTSTAMP:20160524T051520Z
URL:https://unswoc.org/wordpress/events/rack-city-rack-rack-city/
SUMMARY:Rack City\, Rack Rack City
DESCRIPTION:Going down to Mt Boyce on Saturday to burn up some classic mult
 ipitches. Sunday's destination is still up in the air. Let's get tradical
END:VEVENT
END:VCALENDAR